BEGIN:VCALENDAR
VERSION:2.0
PRODID:-//Calvary Episcopal Church - ECPv6.15.16.1//NONSGML v1.0//EN
CALSCALE:GREGORIAN
METHOD:PUBLISH
X-WR-CALNAME:Calvary Episcopal Church
X-ORIGINAL-URL:https://calvarymemphis.org
X-WR-CALDESC:Events for Calvary Episcopal Church
REFRESH-INTERVAL;VALUE=DURATION:PT1H
X-Robots-Tag:noindex
X-PUBLISHED-TTL:PT1H
BEGIN:VTIMEZONE
TZID:America/Chicago
BEGIN:DAYLIGHT
TZOFFSETFROM:-0600
TZOFFSETTO:-0500
TZNAME:CDT
DTSTART:20240310T080000
END:DAYLIGHT
BEGIN:STANDARD
TZOFFSETFROM:-0500
TZOFFSETTO:-0600
TZNAME:CST
DTSTART:20241103T070000
END:STANDARD
BEGIN:DAYLIGHT
TZOFFSETFROM:-0600
TZOFFSETTO:-0500
TZNAME:CDT
DTSTART:20250309T080000
END:DAYLIGHT
BEGIN:STANDARD
TZOFFSETFROM:-0500
TZOFFSETTO:-0600
TZNAME:CST
DTSTART:20251102T070000
END:STANDARD
BEGIN:DAYLIGHT
TZOFFSETFROM:-0600
TZOFFSETTO:-0500
TZNAME:CDT
DTSTART:20260308T080000
END:DAYLIGHT
BEGIN:STANDARD
TZOFFSETFROM:-0500
TZOFFSETTO:-0600
TZNAME:CST
DTSTART:20261101T070000
END:STANDARD
END:VTIMEZONE
BEGIN:VEVENT
DTSTART;TZID=America/Chicago:20251026T120000
DTEND;TZID=America/Chicago:20251026T130000
DTSTAMP:20260420T044126
CREATED:20251008T142111Z
LAST-MODIFIED:20251008T151617Z
UID:10013145-1761480000-1761483600@calvarymemphis.org
SUMMARY:LGBTQIA+ Kick Off Lunch
DESCRIPTION:Come join Calvary’s LGBTQIA+ Ministry for a time of fellowship as we celebrate and explore Calvary’s affirming ministries and history\, as well as our plans and dreams for the future. Bring your questions and your passions\, as we seek to live out our Baptismal Covenant to “seek and serve Christ in all people.” We will meet at 12:00 p.m.\, after the 10:30 a.m. worship service\, and have lunch together in the Mural Room. \nPlease RSVP by Oct. 22.
URL:https://calvarymemphis.org/event/lgbtqia-kick-off-lunch/
LOCATION:Calvary Episcopal Church\, 102 North 2nd Street\, Memphis\, TN 38103\, United States\, 2 N 2nd St\, United States
CATEGORIES:Homepage Events
ATTACH;FMTTYPE=image/png:https://calvarymemphis.org/wp-content/uploads/2025/10/LGBT-Lunch-Invite_web.png
ORGANIZER;CN="Wesley Rowell":MAILTO:wrowell@calvarymemphis.org
GEO:35.144869;-90.05154
X-APPLE-STRUCTURED-LOCATION;VALUE=URI;X-ADDRESS=Calvary Episcopal Church 102 North 2nd Street Memphis TN 38103 United States 2 N 2nd St United States;X-APPLE-RADIUS=500;X-TITLE=2 N 2nd St:geo:-90.05154,35.144869
END:VEVENT
END:VCALENDAR