BEGIN:VCALENDAR
VERSION:2.0
PRODID:-//Calvary Episcopal Church - ECPv6.15.16.1//NONSGML v1.0//EN
CALSCALE:GREGORIAN
METHOD:PUBLISH
X-WR-CALNAME:Calvary Episcopal Church
X-ORIGINAL-URL:https://calvarymemphis.org
X-WR-CALDESC:Events for Calvary Episcopal Church
REFRESH-INTERVAL;VALUE=DURATION:PT1H
X-Robots-Tag:noindex
X-PUBLISHED-TTL:PT1H
BEGIN:VTIMEZONE
TZID:America/Chicago
BEGIN:DAYLIGHT
TZOFFSETFROM:-0600
TZOFFSETTO:-0500
TZNAME:CDT
DTSTART:20240310T080000
END:DAYLIGHT
BEGIN:STANDARD
TZOFFSETFROM:-0500
TZOFFSETTO:-0600
TZNAME:CST
DTSTART:20241103T070000
END:STANDARD
BEGIN:DAYLIGHT
TZOFFSETFROM:-0600
TZOFFSETTO:-0500
TZNAME:CDT
DTSTART:20250309T080000
END:DAYLIGHT
BEGIN:STANDARD
TZOFFSETFROM:-0500
TZOFFSETTO:-0600
TZNAME:CST
DTSTART:20251102T070000
END:STANDARD
BEGIN:DAYLIGHT
TZOFFSETFROM:-0600
TZOFFSETTO:-0500
TZNAME:CDT
DTSTART:20260308T080000
END:DAYLIGHT
BEGIN:STANDARD
TZOFFSETFROM:-0500
TZOFFSETTO:-0600
TZNAME:CST
DTSTART:20261101T070000
END:STANDARD
END:VTIMEZONE
BEGIN:VEVENT
DTSTART;TZID=America/Chicago:20251222T120000
DTEND;TZID=America/Chicago:20251222T140000
DTSTAMP:20260424T101646
CREATED:20251112T174635Z
LAST-MODIFIED:20251210T182414Z
UID:10013337-1766404800-1766412000@calvarymemphis.org
SUMMARY:Emmanuel Meal
DESCRIPTION:Emmanuel Meal is Calvary’s annual Christmas luncheon for our neighbors experiencing poverty or homelessness. \nWith all the things needed for the meal\, gift bags\, and other supplies\, we have a fundraising goal of $8\,000 this year. Thank you to everyone who has already donated online and by stopping by our table in the Calvary Commons over the last few week. We will be there for the next two Sundays in hopes of fully funding this year’s event! \nIn addition to stopping by the table in the Calvary Commons on the next two Sundays from 8:45 a.m. to 9:15 a.m. and during the Coffee Hour following the 10:30 service to make card or cash donations in person\, there are several ways you can contribute online: \n\n\n\n\n\n\n\nVenmo\nPaypal\nRealm\n\n\n\n\n\n\n\nPlease make sure to designate your gift for the Emmanuel Meal. \n  \nVolunteers are needed to help with cooking\, serving\, cleanup\, and more. Sign-up to serve on the day of the meal here!
URL:https://calvarymemphis.org/event/emmanuel-meal/
LOCATION:Calvary Episcopal Church\, 102 North 2nd Street\, Memphis\, TN 38103\, United States\, 2 N 2nd St\, United States
CATEGORIES:Homepage Events
ATTACH;FMTTYPE=image/jpeg:https://calvarymemphis.org/wp-content/uploads/2019/08/Emmanuel-Meal-e1576082319950.jpg
GEO:35.144869;-90.05154
X-APPLE-STRUCTURED-LOCATION;VALUE=URI;X-ADDRESS=Calvary Episcopal Church 102 North 2nd Street Memphis TN 38103 United States 2 N 2nd St United States;X-APPLE-RADIUS=500;X-TITLE=2 N 2nd St:geo:-90.05154,35.144869
END:VEVENT
END:VCALENDAR