BEGIN:VCALENDAR
VERSION:2.0
PRODID:-//Calvary Episcopal Church - ECPv6.15.16.1//NONSGML v1.0//EN
CALSCALE:GREGORIAN
METHOD:PUBLISH
X-ORIGINAL-URL:https://calvarymemphis.org
X-WR-CALDESC:Events for Calvary Episcopal Church
REFRESH-INTERVAL;VALUE=DURATION:PT1H
X-Robots-Tag:noindex
X-PUBLISHED-TTL:PT1H
BEGIN:VTIMEZONE
TZID:America/Chicago
BEGIN:DAYLIGHT
TZOFFSETFROM:-0600
TZOFFSETTO:-0500
TZNAME:CDT
DTSTART:20240310T080000
END:DAYLIGHT
BEGIN:STANDARD
TZOFFSETFROM:-0500
TZOFFSETTO:-0600
TZNAME:CST
DTSTART:20241103T070000
END:STANDARD
BEGIN:DAYLIGHT
TZOFFSETFROM:-0600
TZOFFSETTO:-0500
TZNAME:CDT
DTSTART:20250309T080000
END:DAYLIGHT
BEGIN:STANDARD
TZOFFSETFROM:-0500
TZOFFSETTO:-0600
TZNAME:CST
DTSTART:20251102T070000
END:STANDARD
BEGIN:DAYLIGHT
TZOFFSETFROM:-0600
TZOFFSETTO:-0500
TZNAME:CDT
DTSTART:20260308T080000
END:DAYLIGHT
BEGIN:STANDARD
TZOFFSETFROM:-0500
TZOFFSETTO:-0600
TZNAME:CST
DTSTART:20261101T070000
END:STANDARD
END:VTIMEZONE
BEGIN:VEVENT
DTSTART;TZID=America/Chicago:20251219T063000
DTEND;TZID=America/Chicago:20251219T070000
DTSTAMP:20260424T100620
CREATED:20250910T145442Z
LAST-MODIFIED:20260402T183915Z
UID:10012118-1766125800-1766127600@calvarymemphis.org
SUMMARY:Morning Prayer
DESCRIPTION:On Wednesdays and Fridays\, start your day at 6:30 with “Daily Devotions for Individuals and Families” from the Book of Common Prayer\, or at 8 a.m. with Morning Prayer according to the BCP by joining the Morning Prayer team online on Calvary’s Facebook page and YouTube channel. Have your BCP handy so you can follow along. \nContact Jocelyn Busby with any questions: jbusby@calvarymemphis.org.
URL:https://calvarymemphis.org/event/morning-prayer/2025-12-19/
CATEGORIES:Homepage Events
ATTACH;FMTTYPE=image/jpeg:https://calvarymemphis.org/wp-content/uploads/2020/03/morning-prayer-book.jpeg
ORGANIZER;CN="Jocelyn Busby":MAILTO:jbusby@calvarymemphis.org
END:VEVENT
BEGIN:VEVENT
DTSTART;TZID=America/Chicago:20251219T080000
DTEND;TZID=America/Chicago:20251219T083000
DTSTAMP:20260424T100620
CREATED:20250910T145546Z
LAST-MODIFIED:20260402T183848Z
UID:10012642-1766131200-1766133000@calvarymemphis.org
SUMMARY:Morning Prayer
DESCRIPTION:On Wednesdays and Fridays\, start your day at 6:30 with “Daily Devotions for Individuals and Families” from the Book of Common Prayer\, or at 8 a.m. with Morning Prayer according to the BCP by joining the Morning Prayer team online on Calvary’s Facebook page and YouTube channel. Have your BCP handy so you can follow along. \nContact Jocelyn Busby with any questions: jbusby@calvarymemphis.org.
URL:https://calvarymemphis.org/event/morning-prayer-2/2025-12-19/
CATEGORIES:Homepage Events
ATTACH;FMTTYPE=image/jpeg:https://calvarymemphis.org/wp-content/uploads/2020/03/morning-prayer-book.jpeg
ORGANIZER;CN="Jocelyn Busby":MAILTO:jbusby@calvarymemphis.org
END:VEVENT
BEGIN:VEVENT
DTSTART;TZID=America/Chicago:20251219T180000
DTEND;TZID=America/Chicago:20251219T210000
DTSTAMP:20260424T100620
CREATED:20251216T182132Z
LAST-MODIFIED:20251216T182132Z
UID:10013395-1766167200-1766178000@calvarymemphis.org
SUMMARY:Downtown Christmas Ball Benefitting the Hub
DESCRIPTION:For the second consecutive year\, our friends just down the street at Memphis First United Methodist Church are hosting their annual Christmas Ball! Proceeds from ticket sales benefit the Hospitality Hub\, sponsor of our weekly Neighborhood Breakfast. Last year’s event was such a great time\, and it’s only $8 per person or $25 per family. Your fanciest clothes are encouraged but not required!
URL:https://calvarymemphis.org/event/downtown-christmas-ball-benefitting-the-hub/
LOCATION:Memphis First United Methodist Church\, 204 N. 2nd St.\, Memphis\, 38103\, United States
CATEGORIES:Homepage Events
ATTACH;FMTTYPE=image/jpeg:https://calvarymemphis.org/wp-content/uploads/2025/12/downtown-christmas-ball.jpeg
ORGANIZER;CN="Nathan Brasfield":MAILTO:nbrasfield@calvarymemphis.org
END:VEVENT
END:VCALENDAR