BEGIN:VCALENDAR
VERSION:2.0
PRODID:-//Calvary Episcopal Church - ECPv6.15.16.1//NONSGML v1.0//EN
CALSCALE:GREGORIAN
METHOD:PUBLISH
X-WR-CALNAME:Calvary Episcopal Church
X-ORIGINAL-URL:https://calvarymemphis.org
X-WR-CALDESC:Events for Calvary Episcopal Church
REFRESH-INTERVAL;VALUE=DURATION:PT1H
X-Robots-Tag:noindex
X-PUBLISHED-TTL:PT1H
BEGIN:VTIMEZONE
TZID:America/Chicago
BEGIN:DAYLIGHT
TZOFFSETFROM:-0600
TZOFFSETTO:-0500
TZNAME:CDT
DTSTART:20240310T080000
END:DAYLIGHT
BEGIN:STANDARD
TZOFFSETFROM:-0500
TZOFFSETTO:-0600
TZNAME:CST
DTSTART:20241103T070000
END:STANDARD
BEGIN:DAYLIGHT
TZOFFSETFROM:-0600
TZOFFSETTO:-0500
TZNAME:CDT
DTSTART:20250309T080000
END:DAYLIGHT
BEGIN:STANDARD
TZOFFSETFROM:-0500
TZOFFSETTO:-0600
TZNAME:CST
DTSTART:20251102T070000
END:STANDARD
BEGIN:DAYLIGHT
TZOFFSETFROM:-0600
TZOFFSETTO:-0500
TZNAME:CDT
DTSTART:20260308T080000
END:DAYLIGHT
BEGIN:STANDARD
TZOFFSETFROM:-0500
TZOFFSETTO:-0600
TZNAME:CST
DTSTART:20261101T070000
END:STANDARD
END:VTIMEZONE
BEGIN:VEVENT
DTSTART;TZID=America/Chicago:20251208T180000
DTEND;TZID=America/Chicago:20251208T200000
DTSTAMP:20260424T155712
CREATED:20251119T170539Z
LAST-MODIFIED:20251119T170539Z
UID:10013340-1765216800-1765224000@calvarymemphis.org
SUMMARY:Pub Theology
DESCRIPTION:Monday\, Dec. 8 | 6 p.m. | El Mezcal on Union Ave. \nBring your questions and curiosity\, and be ready to engage with people from varying religious traditions\, philosophical perspectives\, and life experiences. You’ll be able to share your own wrestlings and thoughts while learning something new along the way.
URL:https://calvarymemphis.org/event/pub-theology-4/
LOCATION:El Mezcal\, 1492 Union Ave.\, Memphis\, TN\, 38104\, United States
CATEGORIES:Adult Formation,Homepage Events,Young Adult
ATTACH;FMTTYPE=image/png:https://calvarymemphis.org/wp-content/uploads/2023/05/Monday-Pub-Theology-e1683737749937.png
ORGANIZER;CN="John-Travis Bussell":MAILTO:johntbussell@gmail.com
END:VEVENT
END:VCALENDAR