BEGIN:VCALENDAR
VERSION:2.0
PRODID:-//Calvary Episcopal Church - ECPv6.15.16.1//NONSGML v1.0//EN
CALSCALE:GREGORIAN
METHOD:PUBLISH
X-WR-CALNAME:Calvary Episcopal Church
X-ORIGINAL-URL:https://calvarymemphis.org
X-WR-CALDESC:Events for Calvary Episcopal Church
REFRESH-INTERVAL;VALUE=DURATION:PT1H
X-Robots-Tag:noindex
X-PUBLISHED-TTL:PT1H
BEGIN:VTIMEZONE
TZID:America/Chicago
BEGIN:DAYLIGHT
TZOFFSETFROM:-0600
TZOFFSETTO:-0500
TZNAME:CDT
DTSTART:20220313T080000
END:DAYLIGHT
BEGIN:STANDARD
TZOFFSETFROM:-0500
TZOFFSETTO:-0600
TZNAME:CST
DTSTART:20221106T070000
END:STANDARD
BEGIN:DAYLIGHT
TZOFFSETFROM:-0600
TZOFFSETTO:-0500
TZNAME:CDT
DTSTART:20230312T080000
END:DAYLIGHT
BEGIN:STANDARD
TZOFFSETFROM:-0500
TZOFFSETTO:-0600
TZNAME:CST
DTSTART:20231105T070000
END:STANDARD
BEGIN:DAYLIGHT
TZOFFSETFROM:-0600
TZOFFSETTO:-0500
TZNAME:CDT
DTSTART:20240310T080000
END:DAYLIGHT
BEGIN:STANDARD
TZOFFSETFROM:-0500
TZOFFSETTO:-0600
TZNAME:CST
DTSTART:20241103T070000
END:STANDARD
END:VTIMEZONE
BEGIN:VEVENT
DTSTART;TZID=America/Chicago:20230726T173000
DTEND;TZID=America/Chicago:20230726T193000
DTSTAMP:20260422T170825
CREATED:20230615T171307Z
LAST-MODIFIED:20230719T192850Z
UID:10006607-1690392600-1690399800@calvarymemphis.org
SUMMARY:Trivia
DESCRIPTION:Bring your friends and family on Wednesday\, July 26\, for a mid-summer evening of good food and trivia. Chef Mary O’Brien will provide pub food and drinks\, including Sausage\, Onion\, and Peppers Hoagies; Cucumber Vinegar Salad; Cajun Fries; Corn on the Cob; Ice Cream on a Stick; and Chicken Nuggets & Tater Tots for the kids. \nThe trivia will begin at 6:00 p.m. No need to have a team figured out beforehand! Show up and you’ll be able to make a team. Trivia topics include final lines\, all about games\, Memphis\, movies\, animal facts\, science\, and American history. \nThere will be a children’s table with kid-friendly activities available. \nRSVP so we know how much food to prepare: \n  \n\n\n                \n                        \n                            Trivia Night\n                            Bring your friends and family on Wednesday\, July 26\, for a mid-summer evening of good food and trivia with prizes. Chef Mary O’Brien will provide pub food and drinks. The trivia will begin at 6:30 p.m. No need to have a team figured out beforehand! Show up and you'll be able to make a team. \n                        \n                        Name(Required)\n                            \n                            \n                                                    \n                                                    First\n                                                \n                            \n                            \n                                                    \n                                                    Last\n                                                \n                            \n                        Email(Required)\n                            \n                        Number of Adults (ages 16+)Number of Children (ages 3-16)\n          \n            \n            \n            \n            \n            \n            \n            \n            \n            \n            \n            \n            \n            \n        \n                        Δ
URL:https://calvarymemphis.org/event/trivia/
LOCATION:Calvary Episcopal Church\, 102 North 2nd Street\, Memphis\, TN 38103\, United States\, 2 N 2nd St\, United States
CATEGORIES:Children and Family Ministries,Homepage Events,Youth
ATTACH;FMTTYPE=image/png:https://calvarymemphis.org/wp-content/uploads/2023/06/Teal-Retro-Trivia-Night-Poster-NEW.png
ORGANIZER;CN="Ebet Peeples":MAILTO:epeeples@calvarymemphis.org
GEO:35.144869;-90.05154
X-APPLE-STRUCTURED-LOCATION;VALUE=URI;X-ADDRESS=Calvary Episcopal Church 102 North 2nd Street Memphis TN 38103 United States 2 N 2nd St United States;X-APPLE-RADIUS=500;X-TITLE=2 N 2nd St:geo:-90.05154,35.144869
END:VEVENT
END:VCALENDAR