BEGIN:VCALENDAR
VERSION:2.0
PRODID:-//Calvary Episcopal Church - ECPv6.15.16.1//NONSGML v1.0//EN
CALSCALE:GREGORIAN
METHOD:PUBLISH
X-ORIGINAL-URL:https://calvarymemphis.org
X-WR-CALDESC:Events for Calvary Episcopal Church
REFRESH-INTERVAL;VALUE=DURATION:PT1H
X-Robots-Tag:noindex
X-PUBLISHED-TTL:PT1H
BEGIN:VTIMEZONE
TZID:America/Chicago
BEGIN:DAYLIGHT
TZOFFSETFROM:-0600
TZOFFSETTO:-0500
TZNAME:CDT
DTSTART:20220313T080000
END:DAYLIGHT
BEGIN:STANDARD
TZOFFSETFROM:-0500
TZOFFSETTO:-0600
TZNAME:CST
DTSTART:20221106T070000
END:STANDARD
BEGIN:DAYLIGHT
TZOFFSETFROM:-0600
TZOFFSETTO:-0500
TZNAME:CDT
DTSTART:20230312T080000
END:DAYLIGHT
BEGIN:STANDARD
TZOFFSETFROM:-0500
TZOFFSETTO:-0600
TZNAME:CST
DTSTART:20231105T070000
END:STANDARD
BEGIN:DAYLIGHT
TZOFFSETFROM:-0600
TZOFFSETTO:-0500
TZNAME:CDT
DTSTART:20240310T080000
END:DAYLIGHT
BEGIN:STANDARD
TZOFFSETFROM:-0500
TZOFFSETTO:-0600
TZNAME:CST
DTSTART:20241103T070000
END:STANDARD
END:VTIMEZONE
BEGIN:VEVENT
DTSTART;TZID=America/Chicago:20230710T180000
DTEND;TZID=America/Chicago:20230710T193000
DTSTAMP:20260423T215447
CREATED:20230510T165601Z
LAST-MODIFIED:20230706T155804Z
UID:10006500-1689012000-1689017400@calvarymemphis.org
SUMMARY:Pub Theology
DESCRIPTION:The format is simple: drinks\, conversation\, and God. Come bring your questions and your curiosity\, and pull up a chair. Be ready to engage with people of varying religious traditions\, philosophical perspectives\, and life experiences. You’ll be able to share your own wrestlings and thoughts while learning something new along the way\, and hey— there’s likely to be a good cold drink and cheese dip involved. \nTopic: Fireworks\, Titan submersible\, power and faith\, and white Christian Nationalism\nDate: Monday\, July 10\nTime: 6-7 pm\nLocation: El Mezcal (back room)\n1492 Union Ave\, Memphis\, TN 38104\n*limited parking in front— plenty of parking in the rear (go down a tiny side alley)
URL:https://calvarymemphis.org/event/pub-theology-2023-07-03/
LOCATION:El Mezcal\, 1492 Union Ave.\, Memphis\, TN\, 38104\, United States
CATEGORIES:Adult Formation,Homepage Events
ATTACH;FMTTYPE=image/png:https://calvarymemphis.org/wp-content/uploads/2023/05/Monday-Pub-Theology-e1683737749937.png
ORGANIZER;CN="John-Travis Bussell":MAILTO:johntbussell@gmail.com
END:VEVENT
BEGIN:VEVENT
DTSTART;TZID=America/Chicago:20230726T150000
DTEND;TZID=America/Chicago:20230726T163000
DTSTAMP:20260423T215447
CREATED:20230510T155031Z
LAST-MODIFIED:20230510T155031Z
UID:10006485-1690383600-1690389000@calvarymemphis.org
SUMMARY:Awaken\, Dreamers!
DESCRIPTION:AWAKEN\, DREAMERS! Back by popular demand\, the dream series offered in Lent will resume for three afternoons this summer. On the last Wednesdays of May\, June\, and July\, Greta Heru and Jill Piper will facilitate three workshops that will allow participants to go deeper with their dreams. \nMeetings will be held in the Montgomery Foyer from 3 to 4:30 p.m. on May 31\, June 28\, and July 26. Bring your dream in writing\, and the understanding that the dream group is confidential. If you attended the dream class any time during Lent\, you’ll find that helpful but not required.
URL:https://calvarymemphis.org/event/awaken-dreamers/2023-07-26/
LOCATION:Calvary Episcopal Church\, 102 North 2nd Street\, Memphis\, TN 38103\, United States\, 2 N 2nd St\, United States
CATEGORIES:Adult Formation,Homepage Events
ATTACH;FMTTYPE=image/jpeg:https://calvarymemphis.org/wp-content/uploads/2023/02/dream-4827288_1920.jpg
ORGANIZER;CN="Ebet Peeples":MAILTO:epeeples@calvarymemphis.org
GEO:35.144869;-90.05154
X-APPLE-STRUCTURED-LOCATION;VALUE=URI;X-ADDRESS=Calvary Episcopal Church 102 North 2nd Street Memphis TN 38103 United States 2 N 2nd St United States;X-APPLE-RADIUS=500;X-TITLE=2 N 2nd St:geo:-90.05154,35.144869
END:VEVENT
END:VCALENDAR