BEGIN:VCALENDAR
VERSION:2.0
PRODID:-//Calvary Episcopal Church - ECPv6.15.16.1//NONSGML v1.0//EN
CALSCALE:GREGORIAN
METHOD:PUBLISH
X-ORIGINAL-URL:https://calvarymemphis.org
X-WR-CALDESC:Events for Calvary Episcopal Church
REFRESH-INTERVAL;VALUE=DURATION:PT1H
X-Robots-Tag:noindex
X-PUBLISHED-TTL:PT1H
BEGIN:VTIMEZONE
TZID:America/Chicago
BEGIN:DAYLIGHT
TZOFFSETFROM:-0600
TZOFFSETTO:-0500
TZNAME:CDT
DTSTART:20220313T080000
END:DAYLIGHT
BEGIN:STANDARD
TZOFFSETFROM:-0500
TZOFFSETTO:-0600
TZNAME:CST
DTSTART:20221106T070000
END:STANDARD
BEGIN:DAYLIGHT
TZOFFSETFROM:-0600
TZOFFSETTO:-0500
TZNAME:CDT
DTSTART:20230312T080000
END:DAYLIGHT
BEGIN:STANDARD
TZOFFSETFROM:-0500
TZOFFSETTO:-0600
TZNAME:CST
DTSTART:20231105T070000
END:STANDARD
BEGIN:DAYLIGHT
TZOFFSETFROM:-0600
TZOFFSETTO:-0500
TZNAME:CDT
DTSTART:20240310T080000
END:DAYLIGHT
BEGIN:STANDARD
TZOFFSETFROM:-0500
TZOFFSETTO:-0600
TZNAME:CST
DTSTART:20241103T070000
END:STANDARD
END:VTIMEZONE
BEGIN:VEVENT
DTSTART;TZID=America/Chicago:20230503T090000
DTEND;TZID=America/Chicago:20230503T190000
DTSTAMP:20260419T120340
CREATED:20230503T140018Z
LAST-MODIFIED:20230503T140018Z
UID:10005961-1683104400-1683140400@calvarymemphis.org
SUMMARY:World Labyrinth Day
DESCRIPTION:Early May brings a worldwide celebration of the ancient prayer practice of walking the labyrinth. Calvary’s labyrinth will be set up in our Great Hall from Wednesday\, May 3 – Friday\, May 5. Resources and guides will be available if you’re new to the practice; come anytime the church is open!
URL:https://calvarymemphis.org/event/world-labyrinth-day/2023-05-03/
LOCATION:Calvary Episcopal Church\, 102 North 2nd Street\, Memphis\, TN 38103\, United States\, 2 N 2nd St\, United States
CATEGORIES:Adult Formation,Homepage Events
ATTACH;FMTTYPE=image/jpeg:https://calvarymemphis.org/wp-content/uploads/2022/04/labyrinth.jpg
ORGANIZER;CN="Katherine Bush":MAILTO:kbush@calvarymemphis.org
GEO:35.144869;-90.05154
X-APPLE-STRUCTURED-LOCATION;VALUE=URI;X-ADDRESS=Calvary Episcopal Church 102 North 2nd Street Memphis TN 38103 United States 2 N 2nd St United States;X-APPLE-RADIUS=500;X-TITLE=2 N 2nd St:geo:-90.05154,35.144869
END:VEVENT
BEGIN:VEVENT
DTSTART;TZID=America/Chicago:20230503T130000
DTEND;TZID=America/Chicago:20230503T140000
DTSTAMP:20260419T120340
CREATED:20230329T160144Z
LAST-MODIFIED:20230405T142417Z
UID:10006408-1683118800-1683122400@calvarymemphis.org
SUMMARY:Wednesday Study Group
DESCRIPTION:The Rev. Katherine Bush leads the Wednesday Study Group which meets at 1:00\, after the noon Eucharist and lunch\, to discuss the Bible\, plus related themes and topics. This group will focus on the prophet Isaiah from April 19 – May 24.
URL:https://calvarymemphis.org/event/wednesday-study-group-2/2023-05-03/
LOCATION:Calvary Episcopal Church\, 102 North 2nd Street\, Memphis\, TN 38103\, United States\, 2 N 2nd St\, United States
CATEGORIES:Adult Formation,Homepage Events
ATTACH;FMTTYPE=image/jpeg:https://calvarymemphis.org/wp-content/uploads/2019/04/bible-coffee-web-e1660672121885.jpg
ORGANIZER;CN="Katherine Bush":MAILTO:kbush@calvarymemphis.org
GEO:35.144869;-90.05154
X-APPLE-STRUCTURED-LOCATION;VALUE=URI;X-ADDRESS=Calvary Episcopal Church 102 North 2nd Street Memphis TN 38103 United States 2 N 2nd St United States;X-APPLE-RADIUS=500;X-TITLE=2 N 2nd St:geo:-90.05154,35.144869
END:VEVENT
BEGIN:VEVENT
DTSTART;TZID=America/Chicago:20230503T181500
DTEND;TZID=America/Chicago:20230503T191500
DTSTAMP:20260419T120340
CREATED:20230417T182450Z
LAST-MODIFIED:20230417T182450Z
UID:10006468-1683137700-1683141300@calvarymemphis.org
SUMMARY:Models of Resurrection: Transformative Charity
DESCRIPTION:Paul McLain will guide us in a discussion of what works and what doesn’t when we seek to join the risen Jesus in transforming the lives of the poor and disenfranchised. We will explore Biblical and current models of difference-making charity. We will also read excerpts from Charity Detox: What Charity Would Look Like If We Cared About Results by Robert D. Lupton. The Rev. Eyleen Farmer and team members of Thistle & Bee will join us on May 3 to share their story of how this social enterprise is bringing about new life from the inside out.
URL:https://calvarymemphis.org/event/models-of-resurrection-transformative-charity/2023-05-03/
LOCATION:Calvary Episcopal Church\, 102 North 2nd Street\, Memphis\, TN 38103\, United States\, 2 N 2nd St\, United States
CATEGORIES:Adult Formation,Homepage Events
ATTACH;FMTTYPE=image/jpeg:https://calvarymemphis.org/wp-content/uploads/2021/11/Paul-McLain-2-scaled-e1660657900649.jpg
ORGANIZER;CN="Paul McLain":MAILTO:pmclain@calvarymemphis.org
GEO:35.144869;-90.05154
X-APPLE-STRUCTURED-LOCATION;VALUE=URI;X-ADDRESS=Calvary Episcopal Church 102 North 2nd Street Memphis TN 38103 United States 2 N 2nd St United States;X-APPLE-RADIUS=500;X-TITLE=2 N 2nd St:geo:-90.05154,35.144869
END:VEVENT
BEGIN:VEVENT
DTSTART;TZID=America/Chicago:20230504T090000
DTEND;TZID=America/Chicago:20230504T160000
DTSTAMP:20260419T120340
CREATED:20230503T140018Z
LAST-MODIFIED:20230503T140204Z
UID:10005999-1683190800-1683216000@calvarymemphis.org
SUMMARY:World Labyrinth Day
DESCRIPTION:Early May brings a worldwide celebration of the ancient prayer practice of walking the labyrinth. Calvary’s labyrinth will be set up in our Great Hall from Wednesday\, May 3 – Friday\, May 5. Resources and guides will be available if you’re new to the practice; come anytime the church is open!
URL:https://calvarymemphis.org/event/world-labyrinth-day-2023-05-04/
LOCATION:Calvary Episcopal Church\, 102 North 2nd Street\, Memphis\, TN 38103\, United States\, 2 N 2nd St\, United States
CATEGORIES:Adult Formation,Homepage Events
ATTACH;FMTTYPE=image/jpeg:https://calvarymemphis.org/wp-content/uploads/2022/04/labyrinth.jpg
ORGANIZER;CN="Katherine Bush":MAILTO:kbush@calvarymemphis.org
GEO:35.144869;-90.05154
X-APPLE-STRUCTURED-LOCATION;VALUE=URI;X-ADDRESS=Calvary Episcopal Church 102 North 2nd Street Memphis TN 38103 United States 2 N 2nd St United States;X-APPLE-RADIUS=500;X-TITLE=2 N 2nd St:geo:-90.05154,35.144869
END:VEVENT
BEGIN:VEVENT
DTSTART;TZID=America/Chicago:20230505T090000
DTEND;TZID=America/Chicago:20230505T160000
DTSTAMP:20260419T120340
CREATED:20230503T140018Z
LAST-MODIFIED:20230503T140223Z
UID:10006036-1683277200-1683302400@calvarymemphis.org
SUMMARY:World Labyrinth Day
DESCRIPTION:Early May brings a worldwide celebration of the ancient prayer practice of walking the labyrinth. Calvary’s labyrinth will be set up in our Great Hall from Wednesday\, May 3 – Friday\, May 5. Resources and guides will be available if you’re new to the practice; come anytime the church is open!
URL:https://calvarymemphis.org/event/world-labyrinth-day-2023-05-05/
LOCATION:Calvary Episcopal Church\, 102 North 2nd Street\, Memphis\, TN 38103\, United States\, 2 N 2nd St\, United States
CATEGORIES:Adult Formation,Homepage Events
ATTACH;FMTTYPE=image/jpeg:https://calvarymemphis.org/wp-content/uploads/2022/04/labyrinth.jpg
ORGANIZER;CN="Katherine Bush":MAILTO:kbush@calvarymemphis.org
GEO:35.144869;-90.05154
X-APPLE-STRUCTURED-LOCATION;VALUE=URI;X-ADDRESS=Calvary Episcopal Church 102 North 2nd Street Memphis TN 38103 United States 2 N 2nd St United States;X-APPLE-RADIUS=500;X-TITLE=2 N 2nd St:geo:-90.05154,35.144869
END:VEVENT
BEGIN:VEVENT
DTSTART;TZID=America/Chicago:20230507T091500
DTEND;TZID=America/Chicago:20230507T101500
DTSTAMP:20260419T120340
CREATED:20230329T155805Z
LAST-MODIFIED:20230329T155805Z
UID:10006402-1683450900-1683454500@calvarymemphis.org
SUMMARY:Praying the Psalms
DESCRIPTION:Did you know that the Psalter makes up one-fourth of the Book of Common Prayer? During the Easter season\, the Rev. Paul McLain and Paige Whittle will guide us in exploring ways to pray the Psalms as a spiritual practice as we savor their beauty\, poetry\, and longing. We’ll draw on the work of Dietrich Bonhoeffer\, C.S. Lewis\, biblical scholar Walter Brueggemann\, and others to find deeper meaning in these timeless songs. Come join us on Sundays\, Apr. 16. 23\, and 30; May 7\, 14\, and 21. Emison Room\, 9:15-10:05 am. 
URL:https://calvarymemphis.org/event/praying-the-psalms/2023-05-07/
LOCATION:Calvary Episcopal Church\, 102 North 2nd Street\, Memphis\, TN 38103\, United States\, 2 N 2nd St\, United States
CATEGORIES:Adult Formation,Homepage Events
ATTACH;FMTTYPE=image/jpeg:https://calvarymemphis.org/wp-content/uploads/2023/03/psalm-e1680105476808.jpeg
ORGANIZER;CN="Paul McLain":MAILTO:pmclain@calvarymemphis.org
GEO:35.144869;-90.05154
X-APPLE-STRUCTURED-LOCATION;VALUE=URI;X-ADDRESS=Calvary Episcopal Church 102 North 2nd Street Memphis TN 38103 United States 2 N 2nd St United States;X-APPLE-RADIUS=500;X-TITLE=2 N 2nd St:geo:-90.05154,35.144869
END:VEVENT
BEGIN:VEVENT
DTSTART;TZID=America/Chicago:20230507T091500
DTEND;TZID=America/Chicago:20230507T101500
DTSTAMP:20260419T120340
CREATED:20230503T144216Z
LAST-MODIFIED:20230503T144216Z
UID:10006479-1683450900-1683454500@calvarymemphis.org
SUMMARY:Art & Hope with Zoe Kahr
DESCRIPTION:Brooks Museum of Art Executive Director \nZoe Kahr will be with us to discuss some of the hope-filled art that hangs in the Brooks and the hope-fueled plans to bring the Brooks to downtown Memphis. 
URL:https://calvarymemphis.org/event/art-hope-with-zoe-kahr/
LOCATION:Calvary Episcopal Church\, 102 North 2nd Street\, Memphis\, TN 38103\, United States\, 2 N 2nd St\, United States
CATEGORIES:Adult Formation,Homepage Events
ATTACH;FMTTYPE=image/jpeg:https://calvarymemphis.org/wp-content/uploads/2023/05/zoe-kahr-e1683124927268.jpeg
ORGANIZER;CN="Katherine Bush":MAILTO:kbush@calvarymemphis.org
GEO:35.144869;-90.05154
X-APPLE-STRUCTURED-LOCATION;VALUE=URI;X-ADDRESS=Calvary Episcopal Church 102 North 2nd Street Memphis TN 38103 United States 2 N 2nd St United States;X-APPLE-RADIUS=500;X-TITLE=2 N 2nd St:geo:-90.05154,35.144869
END:VEVENT
BEGIN:VEVENT
DTSTART;TZID=America/Chicago:20230510T130000
DTEND;TZID=America/Chicago:20230510T140000
DTSTAMP:20260419T120340
CREATED:20230329T160144Z
LAST-MODIFIED:20230405T142417Z
UID:10006409-1683723600-1683727200@calvarymemphis.org
SUMMARY:Wednesday Study Group
DESCRIPTION:The Rev. Katherine Bush leads the Wednesday Study Group which meets at 1:00\, after the noon Eucharist and lunch\, to discuss the Bible\, plus related themes and topics. This group will focus on the prophet Isaiah from April 19 – May 24.
URL:https://calvarymemphis.org/event/wednesday-study-group-2/2023-05-10/
LOCATION:Calvary Episcopal Church\, 102 North 2nd Street\, Memphis\, TN 38103\, United States\, 2 N 2nd St\, United States
CATEGORIES:Adult Formation,Homepage Events
ATTACH;FMTTYPE=image/jpeg:https://calvarymemphis.org/wp-content/uploads/2019/04/bible-coffee-web-e1660672121885.jpg
ORGANIZER;CN="Katherine Bush":MAILTO:kbush@calvarymemphis.org
GEO:35.144869;-90.05154
X-APPLE-STRUCTURED-LOCATION;VALUE=URI;X-ADDRESS=Calvary Episcopal Church 102 North 2nd Street Memphis TN 38103 United States 2 N 2nd St United States;X-APPLE-RADIUS=500;X-TITLE=2 N 2nd St:geo:-90.05154,35.144869
END:VEVENT
BEGIN:VEVENT
DTSTART;TZID=America/Chicago:20230510T181500
DTEND;TZID=America/Chicago:20230510T191500
DTSTAMP:20260419T120340
CREATED:20230503T143530Z
LAST-MODIFIED:20230503T143530Z
UID:10006475-1683742500-1683746100@calvarymemphis.org
SUMMARY:The Once & Future Liturgy:  Worship in the Strange and Wonderful Days to Come
DESCRIPTION:Wednesday\, May 10\, 17\, & 24\, at 6:15 p.m. in the Library \nThe most ancient liturgies were once new. And any living tradition is still in the process of unfolding. Join Scott Walters for a conversation about language and gesture and place and sacred text and architecture and how all of the essential elements of our embodied and evolving worship tradition work together as a means of grace in our lives. Input from participants will also help shape a new 6 p.m. Sunday service in the Orgill Room beginning May 28.  \nEach week short readings from a variety of sources will serve as springboards for our conversations\, but no reading is required. Just bring an open heart and a curious mind. All are welcome. Questions? Email swalters@calvarymemphis.org
URL:https://calvarymemphis.org/event/the-once-future-liturgy-worship-in-the-strange-and-wonderful-days-to-come/2023-05-10/
LOCATION:Calvary Episcopal Church\, 102 North 2nd Street\, Memphis\, TN 38103\, United States\, 2 N 2nd St\, United States
CATEGORIES:Adult Formation,Homepage Events
ATTACH;FMTTYPE=image/jpeg:https://calvarymemphis.org/wp-content/uploads/2021/10/Scott-Walters-e1660592646546.jpg
ORGANIZER;CN="Scott Walters":MAILTO:swalters@calvarymemphis.org
GEO:35.144869;-90.05154
X-APPLE-STRUCTURED-LOCATION;VALUE=URI;X-ADDRESS=Calvary Episcopal Church 102 North 2nd Street Memphis TN 38103 United States 2 N 2nd St United States;X-APPLE-RADIUS=500;X-TITLE=2 N 2nd St:geo:-90.05154,35.144869
END:VEVENT
BEGIN:VEVENT
DTSTART;TZID=America/Chicago:20230514T091500
DTEND;TZID=America/Chicago:20230514T101500
DTSTAMP:20260419T120340
CREATED:20230329T155805Z
LAST-MODIFIED:20230329T155805Z
UID:10006403-1684055700-1684059300@calvarymemphis.org
SUMMARY:Praying the Psalms
DESCRIPTION:Did you know that the Psalter makes up one-fourth of the Book of Common Prayer? During the Easter season\, the Rev. Paul McLain and Paige Whittle will guide us in exploring ways to pray the Psalms as a spiritual practice as we savor their beauty\, poetry\, and longing. We’ll draw on the work of Dietrich Bonhoeffer\, C.S. Lewis\, biblical scholar Walter Brueggemann\, and others to find deeper meaning in these timeless songs. Come join us on Sundays\, Apr. 16. 23\, and 30; May 7\, 14\, and 21. Emison Room\, 9:15-10:05 am. 
URL:https://calvarymemphis.org/event/praying-the-psalms/2023-05-14/
LOCATION:Calvary Episcopal Church\, 102 North 2nd Street\, Memphis\, TN 38103\, United States\, 2 N 2nd St\, United States
CATEGORIES:Adult Formation,Homepage Events
ATTACH;FMTTYPE=image/jpeg:https://calvarymemphis.org/wp-content/uploads/2023/03/psalm-e1680105476808.jpeg
ORGANIZER;CN="Paul McLain":MAILTO:pmclain@calvarymemphis.org
GEO:35.144869;-90.05154
X-APPLE-STRUCTURED-LOCATION;VALUE=URI;X-ADDRESS=Calvary Episcopal Church 102 North 2nd Street Memphis TN 38103 United States 2 N 2nd St United States;X-APPLE-RADIUS=500;X-TITLE=2 N 2nd St:geo:-90.05154,35.144869
END:VEVENT
BEGIN:VEVENT
DTSTART;TZID=America/Chicago:20230514T091500
DTEND;TZID=America/Chicago:20230514T101500
DTSTAMP:20260419T120340
CREATED:20230503T144442Z
LAST-MODIFIED:20230511T151655Z
UID:10006481-1684055700-1684059300@calvarymemphis.org
SUMMARY:Literature & Hope with Shari Ray 
DESCRIPTION:A beloved teacher at St. Mary’s Episcopal School\, Shari Ray\, will share some powerful stories of resurrection in the world’s great literature. She’s also a wonderful storyteller herself! \nA teacher of literature and writing in the Memphis area for nearly forty years\, Shari Brand Ray is currently the Chair of the English Department at St. Mary’s Episcopal School in Memphis. A native Memphian\, Shari enjoys taking long walks with her husband Larry\, teaching high school English\, writing on her back porch while she watches the birds\, and Neighborhood Barre. Ray’s first book\, Surprised by Imperfection\, debuted in November 2022\, and her second book of essays releases in the fall of 2023.
URL:https://calvarymemphis.org/event/literature-hope-with-shari-ray/
LOCATION:Calvary Episcopal Church\, 102 North 2nd Street\, Memphis\, TN 38103\, United States\, 2 N 2nd St\, United States
CATEGORIES:Adult Formation,Homepage Events
ATTACH;FMTTYPE=image/jpeg:https://calvarymemphis.org/wp-content/uploads/2023/05/shari-ray-e1683818208525.jpg
ORGANIZER;CN="Katherine Bush":MAILTO:kbush@calvarymemphis.org
GEO:35.144869;-90.05154
X-APPLE-STRUCTURED-LOCATION;VALUE=URI;X-ADDRESS=Calvary Episcopal Church 102 North 2nd Street Memphis TN 38103 United States 2 N 2nd St United States;X-APPLE-RADIUS=500;X-TITLE=2 N 2nd St:geo:-90.05154,35.144869
END:VEVENT
BEGIN:VEVENT
DTSTART;TZID=America/Chicago:20230517T181500
DTEND;TZID=America/Chicago:20230517T191500
DTSTAMP:20260419T120340
CREATED:20230503T143530Z
LAST-MODIFIED:20230503T143530Z
UID:10006476-1684347300-1684350900@calvarymemphis.org
SUMMARY:The Once & Future Liturgy:  Worship in the Strange and Wonderful Days to Come
DESCRIPTION:Wednesday\, May 10\, 17\, & 24\, at 6:15 p.m. in the Library \nThe most ancient liturgies were once new. And any living tradition is still in the process of unfolding. Join Scott Walters for a conversation about language and gesture and place and sacred text and architecture and how all of the essential elements of our embodied and evolving worship tradition work together as a means of grace in our lives. Input from participants will also help shape a new 6 p.m. Sunday service in the Orgill Room beginning May 28.  \nEach week short readings from a variety of sources will serve as springboards for our conversations\, but no reading is required. Just bring an open heart and a curious mind. All are welcome. Questions? Email swalters@calvarymemphis.org
URL:https://calvarymemphis.org/event/the-once-future-liturgy-worship-in-the-strange-and-wonderful-days-to-come/2023-05-17/
LOCATION:Calvary Episcopal Church\, 102 North 2nd Street\, Memphis\, TN 38103\, United States\, 2 N 2nd St\, United States
CATEGORIES:Adult Formation,Homepage Events
ATTACH;FMTTYPE=image/jpeg:https://calvarymemphis.org/wp-content/uploads/2021/10/Scott-Walters-e1660592646546.jpg
ORGANIZER;CN="Scott Walters":MAILTO:swalters@calvarymemphis.org
GEO:35.144869;-90.05154
X-APPLE-STRUCTURED-LOCATION;VALUE=URI;X-ADDRESS=Calvary Episcopal Church 102 North 2nd Street Memphis TN 38103 United States 2 N 2nd St United States;X-APPLE-RADIUS=500;X-TITLE=2 N 2nd St:geo:-90.05154,35.144869
END:VEVENT
BEGIN:VEVENT
DTSTART;TZID=America/Chicago:20230521T091500
DTEND;TZID=America/Chicago:20230521T101500
DTSTAMP:20260419T120340
CREATED:20230329T155805Z
LAST-MODIFIED:20230329T155805Z
UID:10006404-1684660500-1684664100@calvarymemphis.org
SUMMARY:Praying the Psalms
DESCRIPTION:Did you know that the Psalter makes up one-fourth of the Book of Common Prayer? During the Easter season\, the Rev. Paul McLain and Paige Whittle will guide us in exploring ways to pray the Psalms as a spiritual practice as we savor their beauty\, poetry\, and longing. We’ll draw on the work of Dietrich Bonhoeffer\, C.S. Lewis\, biblical scholar Walter Brueggemann\, and others to find deeper meaning in these timeless songs. Come join us on Sundays\, Apr. 16. 23\, and 30; May 7\, 14\, and 21. Emison Room\, 9:15-10:05 am. 
URL:https://calvarymemphis.org/event/praying-the-psalms/2023-05-21/
LOCATION:Calvary Episcopal Church\, 102 North 2nd Street\, Memphis\, TN 38103\, United States\, 2 N 2nd St\, United States
CATEGORIES:Adult Formation,Homepage Events
ATTACH;FMTTYPE=image/jpeg:https://calvarymemphis.org/wp-content/uploads/2023/03/psalm-e1680105476808.jpeg
ORGANIZER;CN="Paul McLain":MAILTO:pmclain@calvarymemphis.org
GEO:35.144869;-90.05154
X-APPLE-STRUCTURED-LOCATION;VALUE=URI;X-ADDRESS=Calvary Episcopal Church 102 North 2nd Street Memphis TN 38103 United States 2 N 2nd St United States;X-APPLE-RADIUS=500;X-TITLE=2 N 2nd St:geo:-90.05154,35.144869
END:VEVENT
BEGIN:VEVENT
DTSTART;TZID=America/Chicago:20230521T091500
DTEND;TZID=America/Chicago:20230521T101500
DTSTAMP:20260419T120340
CREATED:20230517T145136Z
LAST-MODIFIED:20230517T145136Z
UID:10006593-1684660500-1684664100@calvarymemphis.org
SUMMARY:Arise & Be Radiant: What to Expect Next
DESCRIPTION:Come get an update on construction plans\, timelines\, and contingencies as we navigate this exciting time. Tours of the renovated Welcome Inn will also be available\, and you won’t believe how wonderful this space is!
URL:https://calvarymemphis.org/event/arise-be-radiant-what-to-expect-next/
LOCATION:Calvary Episcopal Church\, 102 North 2nd Street\, Memphis\, TN 38103\, United States\, 2 N 2nd St\, United States
CATEGORIES:Adult Formation,Homepage Events
ATTACH;FMTTYPE=image/jpeg:https://calvarymemphis.org/wp-content/uploads/2023/05/hh-architects_New_views_interior_view4-scaled-e1684335081621.jpg
ORGANIZER;CN="Katherine Bush":MAILTO:kbush@calvarymemphis.org
GEO:35.144869;-90.05154
X-APPLE-STRUCTURED-LOCATION;VALUE=URI;X-ADDRESS=Calvary Episcopal Church 102 North 2nd Street Memphis TN 38103 United States 2 N 2nd St United States;X-APPLE-RADIUS=500;X-TITLE=2 N 2nd St:geo:-90.05154,35.144869
END:VEVENT
BEGIN:VEVENT
DTSTART;TZID=America/Chicago:20230524T181500
DTEND;TZID=America/Chicago:20230524T191500
DTSTAMP:20260419T120340
CREATED:20230503T143530Z
LAST-MODIFIED:20230503T143530Z
UID:10006477-1684952100-1684955700@calvarymemphis.org
SUMMARY:The Once & Future Liturgy:  Worship in the Strange and Wonderful Days to Come
DESCRIPTION:Wednesday\, May 10\, 17\, & 24\, at 6:15 p.m. in the Library \nThe most ancient liturgies were once new. And any living tradition is still in the process of unfolding. Join Scott Walters for a conversation about language and gesture and place and sacred text and architecture and how all of the essential elements of our embodied and evolving worship tradition work together as a means of grace in our lives. Input from participants will also help shape a new 6 p.m. Sunday service in the Orgill Room beginning May 28.  \nEach week short readings from a variety of sources will serve as springboards for our conversations\, but no reading is required. Just bring an open heart and a curious mind. All are welcome. Questions? Email swalters@calvarymemphis.org
URL:https://calvarymemphis.org/event/the-once-future-liturgy-worship-in-the-strange-and-wonderful-days-to-come/2023-05-24/
LOCATION:Calvary Episcopal Church\, 102 North 2nd Street\, Memphis\, TN 38103\, United States\, 2 N 2nd St\, United States
CATEGORIES:Adult Formation,Homepage Events
ATTACH;FMTTYPE=image/jpeg:https://calvarymemphis.org/wp-content/uploads/2021/10/Scott-Walters-e1660592646546.jpg
ORGANIZER;CN="Scott Walters":MAILTO:swalters@calvarymemphis.org
GEO:35.144869;-90.05154
X-APPLE-STRUCTURED-LOCATION;VALUE=URI;X-ADDRESS=Calvary Episcopal Church 102 North 2nd Street Memphis TN 38103 United States 2 N 2nd St United States;X-APPLE-RADIUS=500;X-TITLE=2 N 2nd St:geo:-90.05154,35.144869
END:VEVENT
BEGIN:VEVENT
DTSTART;TZID=America/Chicago:20230531T150000
DTEND;TZID=America/Chicago:20230531T163000
DTSTAMP:20260419T120340
CREATED:20230510T155031Z
LAST-MODIFIED:20230510T155031Z
UID:10006483-1685545200-1685550600@calvarymemphis.org
SUMMARY:Awaken\, Dreamers!
DESCRIPTION:AWAKEN\, DREAMERS! Back by popular demand\, the dream series offered in Lent will resume for three afternoons this summer. On the last Wednesdays of May\, June\, and July\, Greta Heru and Jill Piper will facilitate three workshops that will allow participants to go deeper with their dreams. \nMeetings will be held in the Montgomery Foyer from 3 to 4:30 p.m. on May 31\, June 28\, and July 26. Bring your dream in writing\, and the understanding that the dream group is confidential. If you attended the dream class any time during Lent\, you’ll find that helpful but not required.
URL:https://calvarymemphis.org/event/awaken-dreamers/2023-05-31/
LOCATION:Calvary Episcopal Church\, 102 North 2nd Street\, Memphis\, TN 38103\, United States\, 2 N 2nd St\, United States
CATEGORIES:Adult Formation,Homepage Events
ATTACH;FMTTYPE=image/jpeg:https://calvarymemphis.org/wp-content/uploads/2023/02/dream-4827288_1920.jpg
ORGANIZER;CN="Ebet Peeples":MAILTO:epeeples@calvarymemphis.org
GEO:35.144869;-90.05154
X-APPLE-STRUCTURED-LOCATION;VALUE=URI;X-ADDRESS=Calvary Episcopal Church 102 North 2nd Street Memphis TN 38103 United States 2 N 2nd St United States;X-APPLE-RADIUS=500;X-TITLE=2 N 2nd St:geo:-90.05154,35.144869
END:VEVENT
END:VCALENDAR