BEGIN:VCALENDAR
VERSION:2.0
PRODID:-//Calvary Episcopal Church - ECPv6.15.16.1//NONSGML v1.0//EN
CALSCALE:GREGORIAN
METHOD:PUBLISH
X-WR-CALNAME:Calvary Episcopal Church
X-ORIGINAL-URL:https://calvarymemphis.org
X-WR-CALDESC:Events for Calvary Episcopal Church
REFRESH-INTERVAL;VALUE=DURATION:PT1H
X-Robots-Tag:noindex
X-PUBLISHED-TTL:PT1H
BEGIN:VTIMEZONE
TZID:America/Chicago
BEGIN:DAYLIGHT
TZOFFSETFROM:-0600
TZOFFSETTO:-0500
TZNAME:CDT
DTSTART:20250309T080000
END:DAYLIGHT
BEGIN:STANDARD
TZOFFSETFROM:-0500
TZOFFSETTO:-0600
TZNAME:CST
DTSTART:20251102T070000
END:STANDARD
BEGIN:DAYLIGHT
TZOFFSETFROM:-0600
TZOFFSETTO:-0500
TZNAME:CDT
DTSTART:20260308T080000
END:DAYLIGHT
BEGIN:STANDARD
TZOFFSETFROM:-0500
TZOFFSETTO:-0600
TZNAME:CST
DTSTART:20261101T070000
END:STANDARD
BEGIN:DAYLIGHT
TZOFFSETFROM:-0600
TZOFFSETTO:-0500
TZNAME:CDT
DTSTART:20270314T080000
END:DAYLIGHT
BEGIN:STANDARD
TZOFFSETFROM:-0500
TZOFFSETTO:-0600
TZNAME:CST
DTSTART:20271107T070000
END:STANDARD
END:VTIMEZONE
BEGIN:VEVENT
DTSTART;TZID=America/Chicago:20260729T063000
DTEND;TZID=America/Chicago:20260729T190000
DTSTAMP:20260420T202712
CREATED:20260402T183755Z
LAST-MODIFIED:20260402T183755Z
UID:10014255-1785306600-1785351600@calvarymemphis.org
SUMMARY:Morning Prayer
DESCRIPTION:On Tuesday\, Wednesday\, Thursday\, and Friday\, start your day at 6:30 a.m. with Morning Prayer according to the BCP by joining Calvary’s Morning Prayer team online on Calvary’s Facebook page and YouTube channel. Have your Book of Common Prayer handy so you can follow along. We look forward to gathering together in this way and hope you will join us. All are welcome! \nContact Jocelyn Busby with any questions: jbusby@calvarymemphis.org.
URL:https://calvarymemphis.org/event/morning-prayer-3/2026-07-29/
LOCATION:Calvary Episcopal Church\, 102 North 2nd Street\, Memphis\, TN 38103\, United States\, 2 N 2nd St\, United States
CATEGORIES:Homepage Events
ATTACH;FMTTYPE=image/jpeg:https://calvarymemphis.org/wp-content/uploads/2020/03/morning-prayer-book.jpeg
ORGANIZER;CN="Jocelyn Busby":MAILTO:jbusby@calvarymemphis.org
GEO:35.144869;-90.05154
X-APPLE-STRUCTURED-LOCATION;VALUE=URI;X-ADDRESS=Calvary Episcopal Church 102 North 2nd Street Memphis TN 38103 United States 2 N 2nd St United States;X-APPLE-RADIUS=500;X-TITLE=2 N 2nd St:geo:-90.05154,35.144869
END:VEVENT
BEGIN:VEVENT
DTSTART;TZID=America/Chicago:20260729T110000
DTEND;TZID=America/Chicago:20260729T130000
DTSTAMP:20260420T202712
CREATED:20250612T162910Z
LAST-MODIFIED:20250612T162910Z
UID:10009405-1785322800-1785330000@calvarymemphis.org
SUMMARY:Welcome Inn Lunch Bags
DESCRIPTION:Community Ministries provides lunchtime snack bags at the door of the Welcome Inn (82 N. 2nd St.) for our downtown neighbors Monday through Friday at 11:00 a.m. to 1:00 p.m. These days and times coincide with the AA meeting at the Welcome Inn held from noon to 1:00 p.m. on Monday through Friday. Help is needed in sourcing food (which must be either ready-to-eat or requiring very little preparation) and in serving. Volunteers who serve will work with Community Liaison Mak Clayton. Contact nbrasfield@calvarymemphis.org or 901-312-5214 if you’d like to help!
URL:https://calvarymemphis.org/event/welcome-inn-lunch-bags/2026-07-29/
LOCATION:Calvary Episcopal Church Welcome Inn\, 82 North 2nd Street\, Memphis\, TN\, 38103\, United States
ORGANIZER;CN="Nathan Brasfield":MAILTO:nbrasfield@calvarymemphis.org
END:VEVENT
BEGIN:VEVENT
DTSTART;TZID=America/Chicago:20260729T120000
DTEND;TZID=America/Chicago:20260729T123000
DTSTAMP:20260420T202712
CREATED:20250507T142957Z
LAST-MODIFIED:20260225T153021Z
UID:10008908-1785326400-1785328200@calvarymemphis.org
SUMMARY:Holy Eucharist with Prayers for Healing
DESCRIPTION:Holy Eucharist with prayers for healing is offered at noon in the chapel on Wednesdays.  All are welcome!
URL:https://calvarymemphis.org/event/holy-eucharist-with-prayers-for-healing-2023-06-07-2024-04-24-2024-05-22-2/2026-07-29/
LOCATION:Calvary Episcopal Church\, 102 North 2nd Street\, Memphis\, TN 38103\, United States\, 2 N 2nd St\, United States
CATEGORIES:Homepage Events
ATTACH;FMTTYPE=image/jpeg:https://calvarymemphis.org/wp-content/uploads/2023/04/Wednesday-Eucharist-epistle-scaled.jpg
ORGANIZER;CN="Scott Walters":MAILTO:swalters@calvarymemphis.org
GEO:35.144869;-90.05154
X-APPLE-STRUCTURED-LOCATION;VALUE=URI;X-ADDRESS=Calvary Episcopal Church 102 North 2nd Street Memphis TN 38103 United States 2 N 2nd St United States;X-APPLE-RADIUS=500;X-TITLE=2 N 2nd St:geo:-90.05154,35.144869
END:VEVENT
BEGIN:VEVENT
DTSTART;TZID=America/Chicago:20260729T181500
DTEND;TZID=America/Chicago:20260729T191500
DTSTAMP:20260420T202712
CREATED:20260415T160221Z
LAST-MODIFIED:20260415T160221Z
UID:10015247-1785348900-1785352500@calvarymemphis.org
SUMMARY:Sacred Secular Scripture with Tim Huebner and Dalton Lyon
DESCRIPTION:Wednesdays\, April 15 – May 13 | 6:15 – 7:15 p.m. | Bethlehem Chapel \nUsing the Faith 250 model\, we will examine a range of core American texts as we approach the 250th anniversary of the Declaration of Independence. With the thoughtful guidance of two of Calvary’s American history educators\, take a deep look at Emma Lazarus’ poem “The New Colossus\,” the Declaration of Independence\, the text of “America the Beautiful\,” and “What to the Slave is the 4th of July” by Frederick Douglass. \nApril 15: Tim and Dalton intro night\nApril 22: Dalton with the Declaration of Independence\nApril 29: Tim and Dalton with Douglass’s What to the Slave is the 4th of July\nMay 6: Tim and Dalton with the New Colossus\nMay 13: Dalton with America the Beautiful
URL:https://calvarymemphis.org/event/sacred-secular-scripture-with-tim-huebner-and-dalton-lyon/2026-07-29/
LOCATION:Calvary Episcopal Church\, 102 North 2nd Street\, Memphis\, TN 38103\, United States\, 2 N 2nd St\, United States
CATEGORIES:Adult Formation,Homepage Events
ATTACH;FMTTYPE=image/jpeg:https://calvarymemphis.org/wp-content/uploads/2025/08/formation_chapel-scaled-e1756840154160.jpg
ORGANIZER;CN="Katherine Bush":MAILTO:kbush@calvarymemphis.org
GEO:35.144869;-90.05154
X-APPLE-STRUCTURED-LOCATION;VALUE=URI;X-ADDRESS=Calvary Episcopal Church 102 North 2nd Street Memphis TN 38103 United States 2 N 2nd St United States;X-APPLE-RADIUS=500;X-TITLE=2 N 2nd St:geo:-90.05154,35.144869
END:VEVENT
END:VCALENDAR