BEGIN:VCALENDAR
VERSION:2.0
PRODID:-//Calvary Episcopal Church - ECPv6.15.16.1//NONSGML v1.0//EN
CALSCALE:GREGORIAN
METHOD:PUBLISH
X-WR-CALNAME:Calvary Episcopal Church
X-ORIGINAL-URL:https://calvarymemphis.org
X-WR-CALDESC:Events for Calvary Episcopal Church
REFRESH-INTERVAL;VALUE=DURATION:PT1H
X-Robots-Tag:noindex
X-PUBLISHED-TTL:PT1H
BEGIN:VTIMEZONE
TZID:America/Chicago
BEGIN:DAYLIGHT
TZOFFSETFROM:-0600
TZOFFSETTO:-0500
TZNAME:CDT
DTSTART:20250309T080000
END:DAYLIGHT
BEGIN:STANDARD
TZOFFSETFROM:-0500
TZOFFSETTO:-0600
TZNAME:CST
DTSTART:20251102T070000
END:STANDARD
BEGIN:DAYLIGHT
TZOFFSETFROM:-0600
TZOFFSETTO:-0500
TZNAME:CDT
DTSTART:20260308T080000
END:DAYLIGHT
BEGIN:STANDARD
TZOFFSETFROM:-0500
TZOFFSETTO:-0600
TZNAME:CST
DTSTART:20261101T070000
END:STANDARD
BEGIN:DAYLIGHT
TZOFFSETFROM:-0600
TZOFFSETTO:-0500
TZNAME:CDT
DTSTART:20270314T080000
END:DAYLIGHT
BEGIN:STANDARD
TZOFFSETFROM:-0500
TZOFFSETTO:-0600
TZNAME:CST
DTSTART:20271107T070000
END:STANDARD
END:VTIMEZONE
BEGIN:VEVENT
DTSTART;TZID=America/Chicago:20260417T063000
DTEND;TZID=America/Chicago:20260417T070000
DTSTAMP:20260419T111440
CREATED:20250910T145442Z
LAST-MODIFIED:20260402T183915Z
UID:10012152-1776407400-1776409200@calvarymemphis.org
SUMMARY:Morning Prayer
DESCRIPTION:On Wednesdays and Fridays\, start your day at 6:30 with “Daily Devotions for Individuals and Families” from the Book of Common Prayer\, or at 8 a.m. with Morning Prayer according to the BCP by joining the Morning Prayer team online on Calvary’s Facebook page and YouTube channel. Have your BCP handy so you can follow along. \nContact Jocelyn Busby with any questions: jbusby@calvarymemphis.org.
URL:https://calvarymemphis.org/event/morning-prayer/2026-04-17/
CATEGORIES:Homepage Events
ATTACH;FMTTYPE=image/jpeg:https://calvarymemphis.org/wp-content/uploads/2020/03/morning-prayer-book.jpeg
ORGANIZER;CN="Jocelyn Busby":MAILTO:jbusby@calvarymemphis.org
END:VEVENT
BEGIN:VEVENT
DTSTART;TZID=America/Chicago:20260417T080000
DTEND;TZID=America/Chicago:20260417T083000
DTSTAMP:20260419T111440
CREATED:20250910T145546Z
LAST-MODIFIED:20260402T183848Z
UID:10012676-1776412800-1776414600@calvarymemphis.org
SUMMARY:Morning Prayer
DESCRIPTION:On Wednesdays and Fridays\, start your day at 6:30 with “Daily Devotions for Individuals and Families” from the Book of Common Prayer\, or at 8 a.m. with Morning Prayer according to the BCP by joining the Morning Prayer team online on Calvary’s Facebook page and YouTube channel. Have your BCP handy so you can follow along. \nContact Jocelyn Busby with any questions: jbusby@calvarymemphis.org.
URL:https://calvarymemphis.org/event/morning-prayer-2/2026-04-17/
CATEGORIES:Homepage Events
ATTACH;FMTTYPE=image/jpeg:https://calvarymemphis.org/wp-content/uploads/2020/03/morning-prayer-book.jpeg
ORGANIZER;CN="Jocelyn Busby":MAILTO:jbusby@calvarymemphis.org
END:VEVENT
BEGIN:VEVENT
DTSTART;TZID=America/Chicago:20260417T110000
DTEND;TZID=America/Chicago:20260417T130000
DTSTAMP:20260419T111440
CREATED:20250612T162910Z
LAST-MODIFIED:20250612T162910Z
UID:10009332-1776423600-1776430800@calvarymemphis.org
SUMMARY:Welcome Inn Lunch Bags
DESCRIPTION:Community Ministries provides lunchtime snack bags at the door of the Welcome Inn (82 N. 2nd St.) for our downtown neighbors Monday through Friday at 11:00 a.m. to 1:00 p.m. These days and times coincide with the AA meeting at the Welcome Inn held from noon to 1:00 p.m. on Monday through Friday. Help is needed in sourcing food (which must be either ready-to-eat or requiring very little preparation) and in serving. Volunteers who serve will work with Community Liaison Mak Clayton. Contact nbrasfield@calvarymemphis.org or 901-312-5214 if you’d like to help!
URL:https://calvarymemphis.org/event/welcome-inn-lunch-bags/2026-04-17/
LOCATION:Calvary Episcopal Church Welcome Inn\, 82 North 2nd Street\, Memphis\, TN\, 38103\, United States
ORGANIZER;CN="Nathan Brasfield":MAILTO:nbrasfield@calvarymemphis.org
END:VEVENT
BEGIN:VEVENT
DTSTART;TZID=America/Chicago:20260417T183000
DTEND;TZID=America/Chicago:20260417T213000
DTSTAMP:20260419T111440
CREATED:20260225T161833Z
LAST-MODIFIED:20260225T161834Z
UID:10013858-1776450600-1776461400@calvarymemphis.org
SUMMARY:Calvary Picnic at the Redbirds Game
DESCRIPTION:All ages are welcome to join us for an evening picnic watching the Memphis Redbirds on Friday\, April 17\, at 6:30 p.m. For $20 a ticket\, you’ll also have your choice of hot dogs or BBQ with a nacho bar\, coleslaw\, mac and cheese\, a cookie\, and a beverage. Children under 16 must have a responsible adult with them throughout the game. If you have any questions\, contact Nathan Brasfield at nbrasfield@calvarymemphis.org \nPlease RSVP by April 2.
URL:https://calvarymemphis.org/event/calvary-picnic-at-the-redbirds-game/
LOCATION:AutoZone Park\, 200 Union Ave\, Memphis\, TN 38103\, USA\, 2 Union Ave\, United States
CATEGORIES:Homepage Events,Youth
ATTACH;FMTTYPE=image/png:https://calvarymemphis.org/wp-content/uploads/2019/06/redbirds.png
ORGANIZER;CN="Nathan Brasfield":MAILTO:nbrasfield@calvarymemphis.org
GEO:35.14394;-90.05619
X-APPLE-STRUCTURED-LOCATION;VALUE=URI;X-ADDRESS=AutoZone Park 200 Union Ave Memphis TN 38103 USA 2 Union Ave United States;X-APPLE-RADIUS=500;X-TITLE=2 Union Ave:geo:-90.05619,35.14394
END:VEVENT
END:VCALENDAR