BEGIN:VCALENDAR
VERSION:2.0
PRODID:-//Calvary Episcopal Church - ECPv6.15.16.1//NONSGML v1.0//EN
CALSCALE:GREGORIAN
METHOD:PUBLISH
X-WR-CALNAME:Calvary Episcopal Church
X-ORIGINAL-URL:https://calvarymemphis.org
X-WR-CALDESC:Events for Calvary Episcopal Church
REFRESH-INTERVAL;VALUE=DURATION:PT1H
X-Robots-Tag:noindex
X-PUBLISHED-TTL:PT1H
BEGIN:VTIMEZONE
TZID:America/Chicago
BEGIN:DAYLIGHT
TZOFFSETFROM:-0600
TZOFFSETTO:-0500
TZNAME:CDT
DTSTART:20250309T080000
END:DAYLIGHT
BEGIN:STANDARD
TZOFFSETFROM:-0500
TZOFFSETTO:-0600
TZNAME:CST
DTSTART:20251102T070000
END:STANDARD
BEGIN:DAYLIGHT
TZOFFSETFROM:-0600
TZOFFSETTO:-0500
TZNAME:CDT
DTSTART:20260308T080000
END:DAYLIGHT
BEGIN:STANDARD
TZOFFSETFROM:-0500
TZOFFSETTO:-0600
TZNAME:CST
DTSTART:20261101T070000
END:STANDARD
BEGIN:DAYLIGHT
TZOFFSETFROM:-0600
TZOFFSETTO:-0500
TZNAME:CDT
DTSTART:20270314T080000
END:DAYLIGHT
BEGIN:STANDARD
TZOFFSETFROM:-0500
TZOFFSETTO:-0600
TZNAME:CST
DTSTART:20271107T070000
END:STANDARD
END:VTIMEZONE
BEGIN:VEVENT
DTSTART;TZID=America/Chicago:20260303T080000
DTEND;TZID=America/Chicago:20260303T090000
DTSTAMP:20260424T204838
CREATED:20250902T200441Z
LAST-MODIFIED:20250902T200441Z
UID:10007777-1772524800-1772528400@calvarymemphis.org
SUMMARY:Women's Bible Study
DESCRIPTION:Katherine Bush leads this lively and life-giving conversation. Together\, this open-hearted group of women examines the biblical stories\, discovering their relevance and wisdom. There is free parking in the lot behind Barth House.
URL:https://calvarymemphis.org/event/womens-bible-study-2/2026-03-03/
LOCATION:Calvary Episcopal Church\, 102 North 2nd Street\, Memphis\, TN 38103\, United States\, 2 N 2nd St\, United States
CATEGORIES:Adult Formation,Homepage Events
ATTACH;FMTTYPE=image/jpeg:https://calvarymemphis.org/wp-content/uploads/2019/04/bible-coffee-web-e1660672121885.jpg
GEO:35.144869;-90.05154
X-APPLE-STRUCTURED-LOCATION;VALUE=URI;X-ADDRESS=Calvary Episcopal Church 102 North 2nd Street Memphis TN 38103 United States 2 N 2nd St United States;X-APPLE-RADIUS=500;X-TITLE=2 N 2nd St:geo:-90.05154,35.144869
END:VEVENT
BEGIN:VEVENT
DTSTART;TZID=America/Chicago:20260303T110000
DTEND;TZID=America/Chicago:20260303T130000
DTSTAMP:20260424T204838
CREATED:20250612T162910Z
LAST-MODIFIED:20250612T162910Z
UID:10009299-1772535600-1772542800@calvarymemphis.org
SUMMARY:Welcome Inn Lunch Bags
DESCRIPTION:Community Ministries provides lunchtime snack bags at the door of the Welcome Inn (82 N. 2nd St.) for our downtown neighbors Monday through Friday at 11:00 a.m. to 1:00 p.m. These days and times coincide with the AA meeting at the Welcome Inn held from noon to 1:00 p.m. on Monday through Friday. Help is needed in sourcing food (which must be either ready-to-eat or requiring very little preparation) and in serving. Volunteers who serve will work with Community Liaison Mak Clayton. Contact nbrasfield@calvarymemphis.org or 901-312-5214 if you’d like to help!
URL:https://calvarymemphis.org/event/welcome-inn-lunch-bags/2026-03-03/
LOCATION:Calvary Episcopal Church Welcome Inn\, 82 North 2nd Street\, Memphis\, TN\, 38103\, United States
ORGANIZER;CN="Nathan Brasfield":MAILTO:nbrasfield@calvarymemphis.org
END:VEVENT
BEGIN:VEVENT
DTSTART;TZID=America/Chicago:20260303T190000
DTEND;TZID=America/Chicago:20260303T210000
DTSTAMP:20260424T204838
CREATED:20260224T222716Z
LAST-MODIFIED:20260224T222716Z
UID:10013837-1772564400-1772571600@calvarymemphis.org
SUMMARY:Memphis Men's Chorale Concert
DESCRIPTION:Memphis Men’s Chorale celebrates 20 years of singing with a concert at Calvary\, its place of origin. \nMemphis ChoralArts presents “Brothers Sing On!” a concert celebrating the 20th anniversary of the Memphis Men’s Chorale on Tuesday\, March 3rd at 7:00 p.m. It will be held at the group’s original location\, Calvary Episcopal Church\, 102 North Second Street in downtown Memphis. Reception to follow. Tickets are available on the Memphis ChoralArts website\, memphischoralarts.org\, or at the door. $15 for adults\, $5 for children 18 and under.
URL:https://calvarymemphis.org/event/memphis-mens-chorale-concert/
LOCATION:Calvary Episcopal Church\, 102 North 2nd Street\, Memphis\, TN\, 38103\, United States
CATEGORIES:Friends of Music,Homepage Events
ATTACH;FMTTYPE=image/jpeg:https://calvarymemphis.org/wp-content/uploads/2026/02/Mens-Chorale.jpg
ORGANIZER;CN="Kristin Lensch":MAILTO:klensch@calvarymemphis.org
END:VEVENT
END:VCALENDAR