BEGIN:VCALENDAR
VERSION:2.0
PRODID:-//Calvary Episcopal Church - ECPv6.15.16.1//NONSGML v1.0//EN
CALSCALE:GREGORIAN
METHOD:PUBLISH
X-WR-CALNAME:Calvary Episcopal Church
X-ORIGINAL-URL:https://calvarymemphis.org
X-WR-CALDESC:Events for Calvary Episcopal Church
REFRESH-INTERVAL;VALUE=DURATION:PT1H
X-Robots-Tag:noindex
X-PUBLISHED-TTL:PT1H
BEGIN:VTIMEZONE
TZID:America/Chicago
BEGIN:DAYLIGHT
TZOFFSETFROM:-0600
TZOFFSETTO:-0500
TZNAME:CDT
DTSTART:20240310T080000
END:DAYLIGHT
BEGIN:STANDARD
TZOFFSETFROM:-0500
TZOFFSETTO:-0600
TZNAME:CST
DTSTART:20241103T070000
END:STANDARD
BEGIN:DAYLIGHT
TZOFFSETFROM:-0600
TZOFFSETTO:-0500
TZNAME:CDT
DTSTART:20250309T080000
END:DAYLIGHT
BEGIN:STANDARD
TZOFFSETFROM:-0500
TZOFFSETTO:-0600
TZNAME:CST
DTSTART:20251102T070000
END:STANDARD
BEGIN:DAYLIGHT
TZOFFSETFROM:-0600
TZOFFSETTO:-0500
TZNAME:CDT
DTSTART:20260308T080000
END:DAYLIGHT
BEGIN:STANDARD
TZOFFSETFROM:-0500
TZOFFSETTO:-0600
TZNAME:CST
DTSTART:20261101T070000
END:STANDARD
END:VTIMEZONE
BEGIN:VEVENT
DTSTART;VALUE=DATE:20251016
DTEND;VALUE=DATE:20251020
DTSTAMP:20260425T203300
CREATED:20250902T203823Z
LAST-MODIFIED:20250902T203823Z
UID:10011617-1760572800-1760918399@calvarymemphis.org
SUMMARY:St. Clare Women's Silent Weekend Retreat
DESCRIPTION:Come away for a time of rest\, reflection\, and silent community. St. Clare Retreats\, a ministry of the Episcopal Diocese of West Tennessee\, offers silent retreats for women of all faiths. Half-day retreats are held monthly\, and there is a weekend retreat every fall. This year’s fall weekend retreat is set for October 16-19 at St. Columba. A shortened option (Oct. 17-19) is also available. \nThis year’s fall retreat will be led by the Rev. Sarah Cowan\, whose insight and radiant spirit promise a deeply meaningful experience. \nFor more information and registration\, click here. \nQuestions? Contact Heather: heartbrainbody@gmail.com
URL:https://calvarymemphis.org/event/st-clare-womens-silent-weekend-retreat/
LOCATION:St. Columba Episcopal Conference & Retreat Center\, 4577 Billy Maher Rd\, Memphis\, TN 38135\, USA\, United States
CATEGORIES:Homepage Events
ATTACH;FMTTYPE=image/jpeg:https://calvarymemphis.org/wp-content/uploads/2022/02/st-columba-chapel-scaled-e1643821687453.jpg
ORGANIZER;CN="Ardelle Walters":MAILTO:ardellew@gmail.com
GEO:35.244489;-89.858496
END:VEVENT
BEGIN:VEVENT
DTSTART;TZID=America/Chicago:20251018T100000
DTEND;TZID=America/Chicago:20251018T113000
DTSTAMP:20260425T203300
CREATED:20250902T201924Z
LAST-MODIFIED:20251210T175722Z
UID:10011534-1760781600-1760787000@calvarymemphis.org
SUMMARY:Sun and Fun: Parents' Coffee and Playdate
DESCRIPTION:Parents\, grandparents\, and children are invited to a new family fellowship offering on select Saturdays this fall! Come to enjoy some downtime with other adults while your children play. Let’s make new friends and grow in fellowship with old ones. Join us from 10 to 11:30 a.m. on Saturdays\, September 20\, October 18\, November 8\, and December 13. In September\, we will meet at Overton Park. However\, locations will vary depending on the weather and will be announced each month. Refreshments will be provided. Please contact Jocelyn Busby\, director of children and family ministries\, for more information by emailing jbusby@calvarymemphis.org.
URL:https://calvarymemphis.org/event/sun-and-fun-parents-coffee-and-playdate-3/2025-10-18/
LOCATION:Overton Park\, 1914 Poplar Ave.\, Memphis\, TN\, 38104\, United States
CATEGORIES:Children and Family Ministries,Homepage Events
ATTACH;FMTTYPE=image/jpeg:https://calvarymemphis.org/wp-content/uploads/2024/10/overton-park-playground.jpg
ORGANIZER;CN="Jocelyn Busby":MAILTO:jbusby@calvarymemphis.org
END:VEVENT
END:VCALENDAR