BEGIN:VCALENDAR
VERSION:2.0
PRODID:-//Calvary Episcopal Church - ECPv6.15.16.1//NONSGML v1.0//EN
CALSCALE:GREGORIAN
METHOD:PUBLISH
X-WR-CALNAME:Calvary Episcopal Church
X-ORIGINAL-URL:https://calvarymemphis.org
X-WR-CALDESC:Events for Calvary Episcopal Church
REFRESH-INTERVAL;VALUE=DURATION:PT1H
X-Robots-Tag:noindex
X-PUBLISHED-TTL:PT1H
BEGIN:VTIMEZONE
TZID:America/Chicago
BEGIN:DAYLIGHT
TZOFFSETFROM:-0600
TZOFFSETTO:-0500
TZNAME:CDT
DTSTART:20240310T080000
END:DAYLIGHT
BEGIN:STANDARD
TZOFFSETFROM:-0500
TZOFFSETTO:-0600
TZNAME:CST
DTSTART:20241103T070000
END:STANDARD
BEGIN:DAYLIGHT
TZOFFSETFROM:-0600
TZOFFSETTO:-0500
TZNAME:CDT
DTSTART:20250309T080000
END:DAYLIGHT
BEGIN:STANDARD
TZOFFSETFROM:-0500
TZOFFSETTO:-0600
TZNAME:CST
DTSTART:20251102T070000
END:STANDARD
BEGIN:DAYLIGHT
TZOFFSETFROM:-0600
TZOFFSETTO:-0500
TZNAME:CDT
DTSTART:20260308T080000
END:DAYLIGHT
BEGIN:STANDARD
TZOFFSETFROM:-0500
TZOFFSETTO:-0600
TZNAME:CST
DTSTART:20261101T070000
END:STANDARD
END:VTIMEZONE
BEGIN:VEVENT
DTSTART;TZID=America/Chicago:20251011T120000
DTEND;TZID=America/Chicago:20251011T140000
DTSTAMP:20260422T181917
CREATED:20251008T151857Z
LAST-MODIFIED:20251008T151857Z
UID:10013237-1760184000-1760191200@calvarymemphis.org
SUMMARY:Soup Sunday Prep
DESCRIPTION:Come to the kitchen at Noon on Saturday\, October 11\, to help prepare Portuguese Kale or Peanut (vegetarian) soup\, which will be sold on Sunday morning\, October 12\, in the Commons. Proceeds from Calvary’s Soup Sunday ministry help fund our hunger ministries.
URL:https://calvarymemphis.org/event/soup-sunday-prep/
LOCATION:Calvary Episcopal Church\, 102 North 2nd Street\, Memphis\, TN 38103\, United States\, 2 N 2nd St\, United States
CATEGORIES:Homepage Events
ATTACH;FMTTYPE=image/jpeg:https://calvarymemphis.org/wp-content/uploads/2019/04/soup-sunday-prep.jpg
ORGANIZER;CN="David Balling":MAILTO:dave.balling@gmail.com
GEO:35.144869;-90.05154
X-APPLE-STRUCTURED-LOCATION;VALUE=URI;X-ADDRESS=Calvary Episcopal Church 102 North 2nd Street Memphis TN 38103 United States 2 N 2nd St United States;X-APPLE-RADIUS=500;X-TITLE=2 N 2nd St:geo:-90.05154,35.144869
END:VEVENT
END:VCALENDAR