BEGIN:VCALENDAR
VERSION:2.0
PRODID:-//Calvary Episcopal Church - ECPv6.15.16.1//NONSGML v1.0//EN
CALSCALE:GREGORIAN
METHOD:PUBLISH
X-WR-CALNAME:Calvary Episcopal Church
X-ORIGINAL-URL:https://calvarymemphis.org
X-WR-CALDESC:Events for Calvary Episcopal Church
REFRESH-INTERVAL;VALUE=DURATION:PT1H
X-Robots-Tag:noindex
X-PUBLISHED-TTL:PT1H
BEGIN:VTIMEZONE
TZID:America/Chicago
BEGIN:DAYLIGHT
TZOFFSETFROM:-0600
TZOFFSETTO:-0500
TZNAME:CDT
DTSTART:20240310T080000
END:DAYLIGHT
BEGIN:STANDARD
TZOFFSETFROM:-0500
TZOFFSETTO:-0600
TZNAME:CST
DTSTART:20241103T070000
END:STANDARD
BEGIN:DAYLIGHT
TZOFFSETFROM:-0600
TZOFFSETTO:-0500
TZNAME:CDT
DTSTART:20250309T080000
END:DAYLIGHT
BEGIN:STANDARD
TZOFFSETFROM:-0500
TZOFFSETTO:-0600
TZNAME:CST
DTSTART:20251102T070000
END:STANDARD
BEGIN:DAYLIGHT
TZOFFSETFROM:-0600
TZOFFSETTO:-0500
TZNAME:CDT
DTSTART:20260308T080000
END:DAYLIGHT
BEGIN:STANDARD
TZOFFSETFROM:-0500
TZOFFSETTO:-0600
TZNAME:CST
DTSTART:20261101T070000
END:STANDARD
END:VTIMEZONE
BEGIN:VEVENT
DTSTART;TZID=America/Chicago:20250828T080000
DTEND;TZID=America/Chicago:20250828T090000
DTSTAMP:20260421T201611
CREATED:20230830T154138Z
LAST-MODIFIED:20260105T175948Z
UID:10013478-1756368000-1756371600@calvarymemphis.org
SUMMARY:Baguette Brothers
DESCRIPTION:Thursdays\, 8–9 a.m. at Barth House\, 409 Patterson St.  \nThe Baguette Brothers Bible study meets every Thursday morning from 7:30-8:30 a.m. at the Barth House Episcopal Center. The group reads and discusses the Gospel passage for the upcoming Sunday to prepare for worship and deepen our understanding of scripture.  All men are invited. Come join us!
URL:https://calvarymemphis.org/event/baguette-brothers-2024-08-08/2025-08-28/
LOCATION:Barth House\, 409 Patterson St.\, Memphis\, TN\, 38111\, United States
CATEGORIES:Adult Formation,Homepage Events
ATTACH;FMTTYPE=image/jpeg:https://calvarymemphis.org/wp-content/uploads/2019/03/The_Holy_Bible_web.jpg
ORGANIZER;CN="Paul McLain":MAILTO:pmclain@calvarymemphis.org
END:VEVENT
BEGIN:VEVENT
DTSTART;TZID=America/Chicago:20250828T110000
DTEND;TZID=America/Chicago:20250828T130000
DTSTAMP:20260421T201611
CREATED:20250612T162910Z
LAST-MODIFIED:20250612T162910Z
UID:10009166-1756378800-1756386000@calvarymemphis.org
SUMMARY:Welcome Inn Lunch Bags
DESCRIPTION:Community Ministries provides lunchtime snack bags at the door of the Welcome Inn (82 N. 2nd St.) for our downtown neighbors Monday through Friday at 11:00 a.m. to 1:00 p.m. These days and times coincide with the AA meeting at the Welcome Inn held from noon to 1:00 p.m. on Monday through Friday. Help is needed in sourcing food (which must be either ready-to-eat or requiring very little preparation) and in serving. Volunteers who serve will work with Community Liaison Mak Clayton. Contact nbrasfield@calvarymemphis.org or 901-312-5214 if you’d like to help!
URL:https://calvarymemphis.org/event/welcome-inn-lunch-bags/2025-08-28/
LOCATION:Calvary Episcopal Church Welcome Inn\, 82 North 2nd Street\, Memphis\, TN\, 38103\, United States
ORGANIZER;CN="Nathan Brasfield":MAILTO:nbrasfield@calvarymemphis.org
END:VEVENT
END:VCALENDAR