BEGIN:VCALENDAR
VERSION:2.0
PRODID:-//Calvary Episcopal Church - ECPv6.15.16.1//NONSGML v1.0//EN
CALSCALE:GREGORIAN
METHOD:PUBLISH
X-ORIGINAL-URL:https://calvarymemphis.org
X-WR-CALDESC:Events for Calvary Episcopal Church
REFRESH-INTERVAL;VALUE=DURATION:PT1H
X-Robots-Tag:noindex
X-PUBLISHED-TTL:PT1H
BEGIN:VTIMEZONE
TZID:America/Chicago
BEGIN:DAYLIGHT
TZOFFSETFROM:-0600
TZOFFSETTO:-0500
TZNAME:CDT
DTSTART:20240310T080000
END:DAYLIGHT
BEGIN:STANDARD
TZOFFSETFROM:-0500
TZOFFSETTO:-0600
TZNAME:CST
DTSTART:20241103T070000
END:STANDARD
BEGIN:DAYLIGHT
TZOFFSETFROM:-0600
TZOFFSETTO:-0500
TZNAME:CDT
DTSTART:20250309T080000
END:DAYLIGHT
BEGIN:STANDARD
TZOFFSETFROM:-0500
TZOFFSETTO:-0600
TZNAME:CST
DTSTART:20251102T070000
END:STANDARD
BEGIN:DAYLIGHT
TZOFFSETFROM:-0600
TZOFFSETTO:-0500
TZNAME:CDT
DTSTART:20260308T080000
END:DAYLIGHT
BEGIN:STANDARD
TZOFFSETFROM:-0500
TZOFFSETTO:-0600
TZNAME:CST
DTSTART:20261101T070000
END:STANDARD
END:VTIMEZONE
BEGIN:VEVENT
DTSTART;TZID=America/Chicago:20250824T084500
DTEND;TZID=America/Chicago:20250824T094500
DTSTAMP:20260421T095750
CREATED:20250507T144618Z
LAST-MODIFIED:20251204T201924Z
UID:10008319-1756025100-1756028700@calvarymemphis.org
SUMMARY:Parish Breakfast
DESCRIPTION:The breakfast we all love\, including eggs\, grits\, bacon\, sausage\, biscuits\, coffee\, and orange juice\, is served at Calvary each Sunday from 8:45-9:45 a.m. in the Mural Room. Join us after worship for food and fellowship. All are welcome. $5
URL:https://calvarymemphis.org/event/parish-breakfast/2025-08-24/
LOCATION:Calvary Episcopal Church\, 102 North 2nd Street\, Memphis\, TN 38103\, United States\, 2 N 2nd St\, United States
CATEGORIES:Homepage Events
ATTACH;FMTTYPE=image/jpeg:https://calvarymemphis.org/wp-content/uploads/2019/09/breakfast_epistle.jpg
ORGANIZER;CN="Mary O'Brien":MAILTO:mobrien@calvarymemphis.org
GEO:35.144869;-90.05154
X-APPLE-STRUCTURED-LOCATION;VALUE=URI;X-ADDRESS=Calvary Episcopal Church 102 North 2nd Street Memphis TN 38103 United States 2 N 2nd St United States;X-APPLE-RADIUS=500;X-TITLE=2 N 2nd St:geo:-90.05154,35.144869
END:VEVENT
BEGIN:VEVENT
DTSTART;TZID=America/Chicago:20250824T091500
DTEND;TZID=America/Chicago:20250824T101500
DTSTAMP:20260421T095750
CREATED:20250505T191716Z
LAST-MODIFIED:20250521T185911Z
UID:10008011-1756026900-1756030500@calvarymemphis.org
SUMMARY:Summer of Service: Children and Youth Formation
DESCRIPTION:Summer of Service is a summer formation series for children and youth in grades K-12 on Sunday mornings at 9:15 a.m. We will complete service projects each week in and around our beloved parish community. Projects in 2025 will include making placemats for RITI\, gardening to beautify our church grounds\, sending cards to hospitalized children\, painting watercolors for the homebound\, and assisting the Altar Guild and Outreach Department. Please join us as we share God’s love through community engagement and serving others! Nathan Brasfield and Jocelyn Busby will serve as leaders and will welcome special guests each week to assist the group in service to our community.
URL:https://calvarymemphis.org/event/summer-of-service-children-and-youth-formation/2025-08-24/
LOCATION:Calvary Episcopal Church\, 102 North 2nd Street\, Memphis\, TN 38103\, United States\, 2 N 2nd St\, United States
CATEGORIES:Children and Family Ministries,Homepage Events,Youth
ATTACH;FMTTYPE=image/png:https://calvarymemphis.org/wp-content/uploads/2025/05/Service.png
ORGANIZER;CN="Jocelyn Busby":MAILTO:jbusby@calvarymemphis.org
GEO:35.144869;-90.05154
X-APPLE-STRUCTURED-LOCATION;VALUE=URI;X-ADDRESS=Calvary Episcopal Church 102 North 2nd Street Memphis TN 38103 United States 2 N 2nd St United States;X-APPLE-RADIUS=500;X-TITLE=2 N 2nd St:geo:-90.05154,35.144869
END:VEVENT
BEGIN:VEVENT
DTSTART;TZID=America/Chicago:20250824T103000
DTEND;TZID=America/Chicago:20250824T113000
DTSTAMP:20260421T095750
CREATED:20210106T154819Z
LAST-MODIFIED:20240412T174116Z
UID:10006379-1756031400-1756035000@calvarymemphis.org
SUMMARY:Holy Eucharist Rite II
DESCRIPTION:The 10:30 a.m. Eucharist attracts a widely varied congregation of all ages\, including a strong contingent of young families. Music is led by the semi-professional Calvary Choir with participation from our Boys and Girls Choir\, St. Cecilia Choir (second grade and younger)\, and the Calvary Ringers handbell choir. \nWe also live-stream our Sunday morning Holy Eucharist at 10:30 a.m. each Sunday. Watch the live stream on Calvary’s Facebook page\, YouTube channel\, or on our website.
URL:https://calvarymemphis.org/event/holy-eucharist-rite-ii-2021-08-15-2024-04-21/2025-08-24/
LOCATION:Calvary Episcopal Church\, 102 North 2nd Street\, Memphis\, TN\, 38103\, United States
CATEGORIES:Homepage Events
ATTACH;FMTTYPE=image/jpeg:https://calvarymemphis.org/wp-content/uploads/2020/03/open-red-doors3-scaled-e1619204537429.jpg
ORGANIZER;CN="Scott Walters":MAILTO:swalters@calvarymemphis.org
END:VEVENT
BEGIN:VEVENT
DTSTART;TZID=America/Chicago:20250824T113000
DTEND;TZID=America/Chicago:20250824T120000
DTSTAMP:20260421T095750
CREATED:20250505T195742Z
LAST-MODIFIED:20250505T195742Z
UID:10008024-1756035000-1756036800@calvarymemphis.org
SUMMARY:Children's Coffee Hour
DESCRIPTION:Children’s Coffee Hour is a summer program for young people aged five and up. Join us on the staff patio for a late morning time of fellowship\, refreshments\, music\, and Bible activities. The staff patio is adjacent to the Calvary Commons\, where our traditional coffee hour takes place.
URL:https://calvarymemphis.org/event/childrens-coffee-hour/2025-08-24/
LOCATION:Calvary Episcopal Church\, 102 North 2nd Street\, Memphis\, TN 38103\, United States\, 2 N 2nd St\, United States
CATEGORIES:Children and Family Ministries,Homepage Events
ATTACH;FMTTYPE=image/png:https://calvarymemphis.org/wp-content/uploads/2025/05/childrens-coffee-hour.png
ORGANIZER;CN="Jocelyn Busby":MAILTO:jbusby@calvarymemphis.org
GEO:35.144869;-90.05154
X-APPLE-STRUCTURED-LOCATION;VALUE=URI;X-ADDRESS=Calvary Episcopal Church 102 North 2nd Street Memphis TN 38103 United States 2 N 2nd St United States;X-APPLE-RADIUS=500;X-TITLE=2 N 2nd St:geo:-90.05154,35.144869
END:VEVENT
BEGIN:VEVENT
DTSTART;TZID=America/Chicago:20250824T140000
DTEND;TZID=America/Chicago:20250824T150000
DTSTAMP:20260421T095750
CREATED:20250820T144432Z
LAST-MODIFIED:20250820T144432Z
UID:10010717-1756044000-1756047600@calvarymemphis.org
SUMMARY:Happening Closing Eucharist
DESCRIPTION:The diocesan youth event known as Happening is taking place at Calvary this weekend\, and you are invited to the Closing Eucharist at 2 p.m. this Sunday\, Aug. 24\, in the nave. This special service\, celebrating the experiences the participants have had over the weekend\, is open to everyone\, and Calvary parishioners (including former Happeners) are especially encouraged to attend to show support for everyone who has been involved in putting on this very special event here at Calvary. No RSVP is required—just come as you are and join in the celebration of faith\, fellowship\, and community. Join us for a reception afterward in the Calvary Commons!
URL:https://calvarymemphis.org/event/happening-closing-eucharist/
LOCATION:Calvary Episcopal Church\, 102 North 2nd Street\, Memphis\, TN 38103\, United States\, 2 N 2nd St\, United States
CATEGORIES:Homepage Events
ATTACH;FMTTYPE=image/png:https://calvarymemphis.org/wp-content/uploads/2019/08/HAPPENING-logo.png
ORGANIZER;CN="Nathan Brasfield":MAILTO:nbrasfield@calvarymemphis.org
GEO:35.144869;-90.05154
X-APPLE-STRUCTURED-LOCATION;VALUE=URI;X-ADDRESS=Calvary Episcopal Church 102 North 2nd Street Memphis TN 38103 United States 2 N 2nd St United States;X-APPLE-RADIUS=500;X-TITLE=2 N 2nd St:geo:-90.05154,35.144869
END:VEVENT
END:VCALENDAR