BEGIN:VCALENDAR
VERSION:2.0
PRODID:-//Calvary Episcopal Church - ECPv6.15.16.1//NONSGML v1.0//EN
CALSCALE:GREGORIAN
METHOD:PUBLISH
X-ORIGINAL-URL:https://calvarymemphis.org
X-WR-CALDESC:Events for Calvary Episcopal Church
REFRESH-INTERVAL;VALUE=DURATION:PT1H
X-Robots-Tag:noindex
X-PUBLISHED-TTL:PT1H
BEGIN:VTIMEZONE
TZID:America/Chicago
BEGIN:DAYLIGHT
TZOFFSETFROM:-0600
TZOFFSETTO:-0500
TZNAME:CDT
DTSTART:20230312T080000
END:DAYLIGHT
BEGIN:STANDARD
TZOFFSETFROM:-0500
TZOFFSETTO:-0600
TZNAME:CST
DTSTART:20231105T070000
END:STANDARD
BEGIN:DAYLIGHT
TZOFFSETFROM:-0600
TZOFFSETTO:-0500
TZNAME:CDT
DTSTART:20240310T080000
END:DAYLIGHT
BEGIN:STANDARD
TZOFFSETFROM:-0500
TZOFFSETTO:-0600
TZNAME:CST
DTSTART:20241103T070000
END:STANDARD
BEGIN:DAYLIGHT
TZOFFSETFROM:-0600
TZOFFSETTO:-0500
TZNAME:CDT
DTSTART:20250309T080000
END:DAYLIGHT
BEGIN:STANDARD
TZOFFSETFROM:-0500
TZOFFSETTO:-0600
TZNAME:CST
DTSTART:20251102T070000
END:STANDARD
END:VTIMEZONE
BEGIN:VEVENT
DTSTART;TZID=America/Chicago:20241215T073000
DTEND;TZID=America/Chicago:20241215T121500
DTSTAMP:20260419T134146
CREATED:20240904T181759Z
LAST-MODIFIED:20240904T181759Z
UID:10007358-1734247800-1734264900@calvarymemphis.org
SUMMARY:Nursery Care
DESCRIPTION:Ages 0-5 | 7:30 a.m. – 12:15 p.m. \nCalvary maintains an excellent nursery facility staffed by trained\, professional caregivers. Nursery Manager Robbie Phillips and Cassandra Booker welcome children ages 0-5. A loving atmosphere\, personal attention\, and age-appropriate toys and activities are all designed to make the nursery a safe\, nurturing place for your child. The nursery is currently located in the Grizzlies Prep building.
URL:https://calvarymemphis.org/event/nursery-care-2/2024-12-15/
LOCATION:Calvary Episcopal Church\, 102 North 2nd Street\, Memphis\, TN 38103\, United States\, 2 N 2nd St\, United States
CATEGORIES:Children and Family Ministries,Homepage Events
ATTACH;FMTTYPE=image/jpeg:https://calvarymemphis.org/wp-content/uploads/2023/05/nursery_epistle.jpg
ORGANIZER;CN="Jocelyn Busby":MAILTO:jbusby@calvarymemphis.org
GEO:35.144869;-90.05154
X-APPLE-STRUCTURED-LOCATION;VALUE=URI;X-ADDRESS=Calvary Episcopal Church 102 North 2nd Street Memphis TN 38103 United States 2 N 2nd St United States;X-APPLE-RADIUS=500;X-TITLE=2 N 2nd St:geo:-90.05154,35.144869
END:VEVENT
BEGIN:VEVENT
DTSTART;TZID=America/Chicago:20241215T091500
DTEND;TZID=America/Chicago:20241215T101500
DTSTAMP:20260419T134146
CREATED:20230905T200031Z
LAST-MODIFIED:20250521T160850Z
UID:10006195-1734254100-1734257700@calvarymemphis.org
SUMMARY:Children's Formation
DESCRIPTION:Sundays | 9:15-10:15 a.m. | Grizzles Prep\nK-2 grade\, Room 004 | 3rd-5th grades\, Room 001\nA new season in Children’s Formation will begin on Sunday\, September 8. Please join us! Each lesson will include a well-known Bible story compared with a popular children’s book\, a time of wonder and reflection\, and a themed snack. Please note the age groupings and room numbers above. We can’t wait to see you there!
URL:https://calvarymemphis.org/event/childrens-formation-2024-03-31-2024-05-19/2024-12-15/
LOCATION:Calvary Episcopal Church\, 102 North 2nd Street\, Memphis\, TN\, 38103\, United States
CATEGORIES:Children and Family Ministries,Homepage Events
ATTACH;FMTTYPE=image/jpeg:https://calvarymemphis.org/wp-content/uploads/2023/09/childrens-literature-e1725473135773.jpeg
ORGANIZER;CN="Jocelyn Busby":MAILTO:jbusby@calvarymemphis.org
END:VEVENT
BEGIN:VEVENT
DTSTART;TZID=America/Chicago:20241215T091500
DTEND;TZID=America/Chicago:20241215T101500
DTSTAMP:20260419T134146
CREATED:20240104T150751Z
LAST-MODIFIED:20240904T185233Z
UID:10007098-1734254100-1734257700@calvarymemphis.org
SUMMARY:Youth Formation
DESCRIPTION:Grades 6-12 | 9:15-10:15 a.m. \nJunior and senior high youth meet in the Grizzlies Prep building on Sunday mornings with Nathan Brasfield and/or volunteers for conversation and connection.
URL:https://calvarymemphis.org/event/youth-formation-2-2024-05-19/2024-12-15/
LOCATION:Calvary Episcopal Church\, 102 North 2nd Street\, Memphis\, TN 38103\, United States\, 2 N 2nd St\, United States
CATEGORIES:Homepage Events,Youth
ATTACH;FMTTYPE=image/jpeg:https://calvarymemphis.org/wp-content/uploads/2024/01/IMG_5062-scaled.jpeg
ORGANIZER;CN="Nathan Brasfield":MAILTO:nbrasfield@calvarymemphis.org
GEO:35.144869;-90.05154
X-APPLE-STRUCTURED-LOCATION;VALUE=URI;X-ADDRESS=Calvary Episcopal Church 102 North 2nd Street Memphis TN 38103 United States 2 N 2nd St United States;X-APPLE-RADIUS=500;X-TITLE=2 N 2nd St:geo:-90.05154,35.144869
END:VEVENT
BEGIN:VEVENT
DTSTART;TZID=America/Chicago:20241215T103000
DTEND;TZID=America/Chicago:20241215T113000
DTSTAMP:20260419T134146
CREATED:20210106T154819Z
LAST-MODIFIED:20240412T174116Z
UID:10006343-1734258600-1734262200@calvarymemphis.org
SUMMARY:Holy Eucharist Rite II
DESCRIPTION:The 10:30 a.m. Eucharist attracts a widely varied congregation of all ages\, including a strong contingent of young families. Music is led by the semi-professional Calvary Choir with participation from our Boys and Girls Choir\, St. Cecilia Choir (second grade and younger)\, and the Calvary Ringers handbell choir. \nWe also live-stream our Sunday morning Holy Eucharist at 10:30 a.m. each Sunday. Watch the live stream on Calvary’s Facebook page\, YouTube channel\, or on our website.
URL:https://calvarymemphis.org/event/holy-eucharist-rite-ii-2021-08-15-2024-04-21/2024-12-15/
LOCATION:Calvary Episcopal Church\, 102 North 2nd Street\, Memphis\, TN\, 38103\, United States
CATEGORIES:Homepage Events
ATTACH;FMTTYPE=image/jpeg:https://calvarymemphis.org/wp-content/uploads/2020/03/open-red-doors3-scaled-e1619204537429.jpg
ORGANIZER;CN="Scott Walters":MAILTO:swalters@calvarymemphis.org
END:VEVENT
END:VCALENDAR