BEGIN:VCALENDAR
VERSION:2.0
PRODID:-//Calvary Episcopal Church - ECPv6.15.16.1//NONSGML v1.0//EN
CALSCALE:GREGORIAN
METHOD:PUBLISH
X-ORIGINAL-URL:https://calvarymemphis.org
X-WR-CALDESC:Events for Calvary Episcopal Church
REFRESH-INTERVAL;VALUE=DURATION:PT1H
X-Robots-Tag:noindex
X-PUBLISHED-TTL:PT1H
BEGIN:VTIMEZONE
TZID:America/Chicago
BEGIN:DAYLIGHT
TZOFFSETFROM:-0600
TZOFFSETTO:-0500
TZNAME:CDT
DTSTART:20230312T080000
END:DAYLIGHT
BEGIN:STANDARD
TZOFFSETFROM:-0500
TZOFFSETTO:-0600
TZNAME:CST
DTSTART:20231105T070000
END:STANDARD
BEGIN:DAYLIGHT
TZOFFSETFROM:-0600
TZOFFSETTO:-0500
TZNAME:CDT
DTSTART:20240310T080000
END:DAYLIGHT
BEGIN:STANDARD
TZOFFSETFROM:-0500
TZOFFSETTO:-0600
TZNAME:CST
DTSTART:20241103T070000
END:STANDARD
BEGIN:DAYLIGHT
TZOFFSETFROM:-0600
TZOFFSETTO:-0500
TZNAME:CDT
DTSTART:20250309T080000
END:DAYLIGHT
BEGIN:STANDARD
TZOFFSETFROM:-0500
TZOFFSETTO:-0600
TZNAME:CST
DTSTART:20251102T070000
END:STANDARD
END:VTIMEZONE
BEGIN:VEVENT
DTSTART;TZID=America/Chicago:20241104T180000
DTEND;TZID=America/Chicago:20241104T190000
DTSTAMP:20260423T194045
CREATED:20241016T154536Z
LAST-MODIFIED:20250505T183229Z
UID:10007404-1730743200-1730746800@calvarymemphis.org
SUMMARY:High School Bible Study
DESCRIPTION:High schoolers\, join us for a Bible study at the Union Ave. Panera Bread from 6 to 7 p.m. You don’t have to bring anything\, but you can bring a Bible. We’ll have handouts every week with the scriptural texts. We will start by discussing the first of Paul’s letters to the Corinthians. Perhaps more than any other part of the Bible\, this bizarre and beautiful letter presents so much material to imagine as we consider what it means to be the church together and aim to find our place within it as individuals.
URL:https://calvarymemphis.org/event/high-school-bible-study/2024-11-04/
LOCATION:Panera Bread\, 1961 Union Ave.\, Memphis\, 38104
CATEGORIES:Homepage Events,Youth
ATTACH;FMTTYPE=image/jpeg:https://calvarymemphis.org/wp-content/uploads/2019/04/bible-coffee-web-e1660672121885.jpg
ORGANIZER;CN="Nathan Brasfield":MAILTO:nbrasfield@calvarymemphis.org
END:VEVENT
BEGIN:VEVENT
DTSTART;TZID=America/Chicago:20241104T180000
DTEND;TZID=America/Chicago:20241104T190000
DTSTAMP:20260423T194045
CREATED:20241030T154355Z
LAST-MODIFIED:20241030T154734Z
UID:10007043-1730743200-1730746800@calvarymemphis.org
SUMMARY:Pub Theology
DESCRIPTION:THIS MONTH: Halloween\, surprising Bible verses\, personal divine plans \nThe format is simple: drinks\, conversation\, and God. Come bring your questions and curiosity\, and pull up a chair. Be ready to engage with people of varying religious traditions\, philosophical perspectives\, and life experiences. You’ll be able to share your own wrestlings and thoughts while learning something new along the way\, and hey—there’s likely to be a good cold drink and cheese dip involved. \nDate: Monday\, November 4\nTime: 6-7 pm\nLocation: El Mezcal (back room)\n1492 Union Ave\, Memphis\, TN 38104\n*limited parking in front— plenty of parking in the rear (go down tiny side alley)
URL:https://calvarymemphis.org/event/pub-theology-2/
LOCATION:El Mezcal\, 1492 Union Ave.\, Memphis\, TN\, 38104\, United States
CATEGORIES:Adult Formation,Homepage Events,Young Adult
ATTACH;FMTTYPE=image/png:https://calvarymemphis.org/wp-content/uploads/2023/05/Monday-Pub-Theology-e1683737749937.png
ORGANIZER;CN="John-Travis Bussell":MAILTO:johntbussell@gmail.com
END:VEVENT
BEGIN:VEVENT
DTSTART;TZID=America/Chicago:20241104T180000
DTEND;TZID=America/Chicago:20241104T193000
DTSTAMP:20260423T194045
CREATED:20230510T165601Z
LAST-MODIFIED:20240103T163814Z
UID:10006498-1730743200-1730748600@calvarymemphis.org
SUMMARY:Pub Theology
DESCRIPTION:Come explore your faith with friends old and new at Pub Theology. \nMeeting at a restaurant on the first Monday of each month\, participants will discuss topics such as Peace and Holiness\, The Golden Rule\, Miracles\, The Influence of Religion on Public Policy\, and more while enjoying food and drinks. \nAll ages and denominations are welcome. Contact John-Travis Bussell for more information. \n 
URL:https://calvarymemphis.org/event/pub-theology/2024-11-04/
LOCATION:Memphis\, TN\, United States
CATEGORIES:Adult Formation,Homepage Events
ATTACH;FMTTYPE=image/png:https://calvarymemphis.org/wp-content/uploads/2023/05/Monday-Pub-Theology-e1683737749937.png
ORGANIZER;CN="John-Travis Bussell":MAILTO:johntbussell@gmail.com
END:VEVENT
END:VCALENDAR