BEGIN:VCALENDAR
VERSION:2.0
PRODID:-//Calvary Episcopal Church - ECPv6.15.16.1//NONSGML v1.0//EN
CALSCALE:GREGORIAN
METHOD:PUBLISH
X-WR-CALNAME:Calvary Episcopal Church
X-ORIGINAL-URL:https://calvarymemphis.org
X-WR-CALDESC:Events for Calvary Episcopal Church
REFRESH-INTERVAL;VALUE=DURATION:PT1H
X-Robots-Tag:noindex
X-PUBLISHED-TTL:PT1H
BEGIN:VTIMEZONE
TZID:America/Chicago
BEGIN:DAYLIGHT
TZOFFSETFROM:-0600
TZOFFSETTO:-0500
TZNAME:CDT
DTSTART:20230312T080000
END:DAYLIGHT
BEGIN:STANDARD
TZOFFSETFROM:-0500
TZOFFSETTO:-0600
TZNAME:CST
DTSTART:20231105T070000
END:STANDARD
BEGIN:DAYLIGHT
TZOFFSETFROM:-0600
TZOFFSETTO:-0500
TZNAME:CDT
DTSTART:20240310T080000
END:DAYLIGHT
BEGIN:STANDARD
TZOFFSETFROM:-0500
TZOFFSETTO:-0600
TZNAME:CST
DTSTART:20241103T070000
END:STANDARD
BEGIN:DAYLIGHT
TZOFFSETFROM:-0600
TZOFFSETTO:-0500
TZNAME:CDT
DTSTART:20250309T080000
END:DAYLIGHT
BEGIN:STANDARD
TZOFFSETFROM:-0500
TZOFFSETTO:-0600
TZNAME:CST
DTSTART:20251102T070000
END:STANDARD
END:VTIMEZONE
BEGIN:VEVENT
DTSTART;TZID=America/Chicago:20241025T180000
DTEND;TZID=America/Chicago:20241025T193000
DTSTAMP:20260425T175625
CREATED:20241016T165124Z
LAST-MODIFIED:20241023T154148Z
UID:10007017-1729879200-1729884600@calvarymemphis.org
SUMMARY:Revolutionary Love Tour with Valerie Kaur stops at Calvary
DESCRIPTION:The Revolutionary Love Bus Tour 2024-2025 is a healing odyssey across the United States\, calling people to rise up in courage\, humanity\, and love. \nJoin visionary civil rights leader Valarie Kaur in an immersive experience of storytelling\, music\, song\, ancestral wisdom\, and community-building. We invite you into a space for soulful introspection\, deep listening\, and courageous action. Each stop uplifts local leaders\, artists\, and advocates who catalyze hope. You will leave with the tools needed to lead with love and courage in your daily life. \nAt the heart of every event\, Valarie and fellow artists tell stories of how their ancestors survived seemingly apocalyptic times. Together\, we explore how each of us can walk the path of love\, healing\, and justice—featuring raag-based kirtan by celebrated Sikh women artists Jasvir Kaur Rababan and Nirinjan Kaur Khalsa. And renowned trumpeter and artist Sonny Singh performing from his new album Sage Warrior\, accompanied by Qais Essar or Shahjehan Khan. There will also be special guests at every stop who will be announced soon! \nReserve your spot here!
URL:https://calvarymemphis.org/event/revolutionary-love-tour-with-valerie-kuar-stops-at-calvary/
LOCATION:Calvary Episcopal Church\, 102 North 2nd Street\, Memphis\, TN 38103\, United States\, 2 N 2nd St\, United States
CATEGORIES:Homepage Events
ATTACH;FMTTYPE=image/jpeg:https://calvarymemphis.org/wp-content/uploads/2024/10/call-of-our-times-amplifier-credit-IGPost.jpg
ORGANIZER;CN="Scott Walters":MAILTO:swalters@calvarymemphis.org
GEO:35.144869;-90.05154
X-APPLE-STRUCTURED-LOCATION;VALUE=URI;X-ADDRESS=Calvary Episcopal Church 102 North 2nd Street Memphis TN 38103 United States 2 N 2nd St United States;X-APPLE-RADIUS=500;X-TITLE=2 N 2nd St:geo:-90.05154,35.144869
END:VEVENT
END:VCALENDAR