BEGIN:VCALENDAR
VERSION:2.0
PRODID:-//Calvary Episcopal Church - ECPv6.15.16.1//NONSGML v1.0//EN
CALSCALE:GREGORIAN
METHOD:PUBLISH
X-ORIGINAL-URL:https://calvarymemphis.org
X-WR-CALDESC:Events for Calvary Episcopal Church
REFRESH-INTERVAL;VALUE=DURATION:PT1H
X-Robots-Tag:noindex
X-PUBLISHED-TTL:PT1H
BEGIN:VTIMEZONE
TZID:America/Chicago
BEGIN:DAYLIGHT
TZOFFSETFROM:-0600
TZOFFSETTO:-0500
TZNAME:CDT
DTSTART:20230312T080000
END:DAYLIGHT
BEGIN:STANDARD
TZOFFSETFROM:-0500
TZOFFSETTO:-0600
TZNAME:CST
DTSTART:20231105T070000
END:STANDARD
BEGIN:DAYLIGHT
TZOFFSETFROM:-0600
TZOFFSETTO:-0500
TZNAME:CDT
DTSTART:20240310T080000
END:DAYLIGHT
BEGIN:STANDARD
TZOFFSETFROM:-0500
TZOFFSETTO:-0600
TZNAME:CST
DTSTART:20241103T070000
END:STANDARD
BEGIN:DAYLIGHT
TZOFFSETFROM:-0600
TZOFFSETTO:-0500
TZNAME:CDT
DTSTART:20250309T080000
END:DAYLIGHT
BEGIN:STANDARD
TZOFFSETFROM:-0500
TZOFFSETTO:-0600
TZNAME:CST
DTSTART:20251102T070000
END:STANDARD
END:VTIMEZONE
BEGIN:VEVENT
DTSTART;TZID=America/Chicago:20241018T080000
DTEND;TZID=America/Chicago:20241020T170000
DTSTAMP:20260423T031336
CREATED:20240911T163723Z
LAST-MODIFIED:20240911T163723Z
UID:10007386-1729238400-1729443600@calvarymemphis.org
SUMMARY:St. Clare Silent Retreat Weekend
DESCRIPTION:St. Clare Weekend Silent Retreat\nOctober 18-20 at St. Columba Retreat Center\nA 2 or 3-night option is available\nTo register: https://saintcolumbamemphis.org/stclare\nQuestions? Contact Heather Jordan at (901) 574-1378 or heartbrainbody@gmail.com \nHome-Coming\nA Retreat Based on The Return of the Prodigal Son by Henri Nouwen \n“I had just finished an exhausting six-week lecturing trip … I was dead tired … I was anxious\, lonely\, restless\, and very needy. During the trip\, I had felt like a strong fighter for justice and peace\, able to face the dark world without fear. But after it was all over … I experienced devastating loneliness … It was in this condition that I first encountered Rembrandt’s Prodigal Son … my heart leaped when I saw it.” -From the Prologue of Henri Nouwen’s book The Return of the Prodigal Son: A Story of Homecoming. \nSaint Clare’s Silent Retreats are always experiential. A time to be with yourself and God in other people’s presence. A time to be with your heart more than with your intellect. It is a time to listen for the wisdom within rather than to the overabundance of information from myriad external sources. This year\, in between our silent spaces\, Ardelle Walters will lead us in our own encounters of Nouwen’s book and Rembrandt’s painting as they portray the ancient story of the prodigal. We hope you can join us!
URL:https://calvarymemphis.org/event/st-clare-silent-retreat-weekend/
LOCATION:St. Columba Episcopal Conference & Retreat Center\, 4577 Billy Maher Rd\, Memphis\, TN 38135\, USA\, United States
CATEGORIES:Adult Formation,Homepage Events
ATTACH;FMTTYPE=image/jpeg:https://calvarymemphis.org/wp-content/uploads/2022/02/st-columba-chapel-scaled-e1643821687453.jpg
ORGANIZER;CN="Heather Jordan":MAILTO:heartbrainbody@gmail.com
GEO:35.244489;-89.858496
END:VEVENT
BEGIN:VEVENT
DTSTART;TZID=America/Chicago:20241020T073000
DTEND;TZID=America/Chicago:20241020T121500
DTSTAMP:20260423T031336
CREATED:20240904T181759Z
LAST-MODIFIED:20240904T181759Z
UID:10007350-1729409400-1729426500@calvarymemphis.org
SUMMARY:Nursery Care
DESCRIPTION:Ages 0-5 | 7:30 a.m. – 12:15 p.m. \nCalvary maintains an excellent nursery facility staffed by trained\, professional caregivers. Nursery Manager Robbie Phillips and Cassandra Booker welcome children ages 0-5. A loving atmosphere\, personal attention\, and age-appropriate toys and activities are all designed to make the nursery a safe\, nurturing place for your child. The nursery is currently located in the Grizzlies Prep building.
URL:https://calvarymemphis.org/event/nursery-care-2/2024-10-20/
LOCATION:Calvary Episcopal Church\, 102 North 2nd Street\, Memphis\, TN 38103\, United States\, 2 N 2nd St\, United States
CATEGORIES:Children and Family Ministries,Homepage Events
ATTACH;FMTTYPE=image/jpeg:https://calvarymemphis.org/wp-content/uploads/2023/05/nursery_epistle.jpg
ORGANIZER;CN="Jocelyn Busby":MAILTO:jbusby@calvarymemphis.org
GEO:35.144869;-90.05154
X-APPLE-STRUCTURED-LOCATION;VALUE=URI;X-ADDRESS=Calvary Episcopal Church 102 North 2nd Street Memphis TN 38103 United States 2 N 2nd St United States;X-APPLE-RADIUS=500;X-TITLE=2 N 2nd St:geo:-90.05154,35.144869
END:VEVENT
BEGIN:VEVENT
DTSTART;TZID=America/Chicago:20241020T091500
DTEND;TZID=America/Chicago:20241020T101500
DTSTAMP:20260423T031336
CREATED:20230905T200031Z
LAST-MODIFIED:20250521T160850Z
UID:10006187-1729415700-1729419300@calvarymemphis.org
SUMMARY:Children's Formation
DESCRIPTION:Sundays | 9:15-10:15 a.m. | Grizzles Prep\nK-2 grade\, Room 004 | 3rd-5th grades\, Room 001\nA new season in Children’s Formation will begin on Sunday\, September 8. Please join us! Each lesson will include a well-known Bible story compared with a popular children’s book\, a time of wonder and reflection\, and a themed snack. Please note the age groupings and room numbers above. We can’t wait to see you there!
URL:https://calvarymemphis.org/event/childrens-formation-2024-03-31-2024-05-19/2024-10-20/
LOCATION:Calvary Episcopal Church\, 102 North 2nd Street\, Memphis\, TN\, 38103\, United States
CATEGORIES:Children and Family Ministries,Homepage Events
ATTACH;FMTTYPE=image/jpeg:https://calvarymemphis.org/wp-content/uploads/2023/09/childrens-literature-e1725473135773.jpeg
ORGANIZER;CN="Jocelyn Busby":MAILTO:jbusby@calvarymemphis.org
END:VEVENT
BEGIN:VEVENT
DTSTART;TZID=America/Chicago:20241020T091500
DTEND;TZID=America/Chicago:20241020T101500
DTSTAMP:20260423T031336
CREATED:20240104T150751Z
LAST-MODIFIED:20240904T185233Z
UID:10007090-1729415700-1729419300@calvarymemphis.org
SUMMARY:Youth Formation
DESCRIPTION:Grades 6-12 | 9:15-10:15 a.m. \nJunior and senior high youth meet in the Grizzlies Prep building on Sunday mornings with Nathan Brasfield and/or volunteers for conversation and connection.
URL:https://calvarymemphis.org/event/youth-formation-2-2024-05-19/2024-10-20/
LOCATION:Calvary Episcopal Church\, 102 North 2nd Street\, Memphis\, TN 38103\, United States\, 2 N 2nd St\, United States
CATEGORIES:Homepage Events,Youth
ATTACH;FMTTYPE=image/jpeg:https://calvarymemphis.org/wp-content/uploads/2024/01/IMG_5062-scaled.jpeg
ORGANIZER;CN="Nathan Brasfield":MAILTO:nbrasfield@calvarymemphis.org
GEO:35.144869;-90.05154
X-APPLE-STRUCTURED-LOCATION;VALUE=URI;X-ADDRESS=Calvary Episcopal Church 102 North 2nd Street Memphis TN 38103 United States 2 N 2nd St United States;X-APPLE-RADIUS=500;X-TITLE=2 N 2nd St:geo:-90.05154,35.144869
END:VEVENT
BEGIN:VEVENT
DTSTART;TZID=America/Chicago:20241020T091500
DTEND;TZID=America/Chicago:20241020T101500
DTSTAMP:20260423T031336
CREATED:20240918T142248Z
LAST-MODIFIED:20240918T142248Z
UID:10007388-1729415700-1729419300@calvarymemphis.org
SUMMARY:Adult Formation: Anasa Troutman\, Rebuilding a Legacy\, Clayborn Temple
DESCRIPTION:Oct 20: Anasa Troutman\, Rebuilding a Legacy\, Clayborn Temple\nIn her current role as executive director of Historic Clayborn Temple\, Anasa Troutman was instrumental in acquiring the building in 2019 and founding a new organization to restore Clayborn and steward their team and mission. A writer and producer by trade\, Anasa has spent her life telling stories and finding ways for those stories to shape the way we see\, experience\, and interact with ourselves and others.
URL:https://calvarymemphis.org/event/adult-formation-anasa-troutman-rebuilding-a-legacy-clayborn-temple/
LOCATION:Calvary Episcopal Church\, 102 North 2nd Street\, Memphis\, TN 38103\, United States\, 2 N 2nd St\, United States
CATEGORIES:Adult Formation,Homepage Events
ATTACH;FMTTYPE=image/jpeg:https://calvarymemphis.org/wp-content/uploads/2024/09/Anasa-Troutman.jpeg
ORGANIZER;CN="Katherine Bush":MAILTO:kbush@calvarymemphis.org
GEO:35.144869;-90.05154
X-APPLE-STRUCTURED-LOCATION;VALUE=URI;X-ADDRESS=Calvary Episcopal Church 102 North 2nd Street Memphis TN 38103 United States 2 N 2nd St United States;X-APPLE-RADIUS=500;X-TITLE=2 N 2nd St:geo:-90.05154,35.144869
END:VEVENT
BEGIN:VEVENT
DTSTART;TZID=America/Chicago:20241020T103000
DTEND;TZID=America/Chicago:20241020T113000
DTSTAMP:20260423T031336
CREATED:20210106T154819Z
LAST-MODIFIED:20240412T174116Z
UID:10006335-1729420200-1729423800@calvarymemphis.org
SUMMARY:Holy Eucharist Rite II
DESCRIPTION:The 10:30 a.m. Eucharist attracts a widely varied congregation of all ages\, including a strong contingent of young families. Music is led by the semi-professional Calvary Choir with participation from our Boys and Girls Choir\, St. Cecilia Choir (second grade and younger)\, and the Calvary Ringers handbell choir. \nWe also live-stream our Sunday morning Holy Eucharist at 10:30 a.m. each Sunday. Watch the live stream on Calvary’s Facebook page\, YouTube channel\, or on our website.
URL:https://calvarymemphis.org/event/holy-eucharist-rite-ii-2021-08-15-2024-04-21/2024-10-20/
LOCATION:Calvary Episcopal Church\, 102 North 2nd Street\, Memphis\, TN\, 38103\, United States
CATEGORIES:Homepage Events
ATTACH;FMTTYPE=image/jpeg:https://calvarymemphis.org/wp-content/uploads/2020/03/open-red-doors3-scaled-e1619204537429.jpg
ORGANIZER;CN="Scott Walters":MAILTO:swalters@calvarymemphis.org
END:VEVENT
BEGIN:VEVENT
DTSTART;TZID=America/Chicago:20241020T113000
DTEND;TZID=America/Chicago:20241020T130000
DTSTAMP:20260423T031336
CREATED:20240924T143233Z
LAST-MODIFIED:20241014T205256Z
UID:10007394-1729423800-1729429200@calvarymemphis.org
SUMMARY:Annual Giving Kickoff Picnic
DESCRIPTION:Join us and your fellow Calvary family and friends for a delectable feast of Memphis’ favorite—TOPS barbecue! We’re launching the 2025 Annual Giving Campaign with an amazing picnic lunch on Calvary’s lawn. \nRSVP to this exciting\, fall-themed gathering. Your presence will make this event truly special!
URL:https://calvarymemphis.org/event/annual-giving-kickoff-picnic/
LOCATION:Calvary Episcopal Church\, 102 North 2nd Street\, Memphis\, TN 38103\, United States\, 2 N 2nd St\, United States
CATEGORIES:Homepage Events
ATTACH;FMTTYPE=image/jpeg:https://calvarymemphis.org/wp-content/uploads/2024/09/birthday-party-on-the-lawn-scaled.jpg
ORGANIZER;CN="Margaret McLean":MAILTO:mmclean@calvarymemphis.org
GEO:35.144869;-90.05154
X-APPLE-STRUCTURED-LOCATION;VALUE=URI;X-ADDRESS=Calvary Episcopal Church 102 North 2nd Street Memphis TN 38103 United States 2 N 2nd St United States;X-APPLE-RADIUS=500;X-TITLE=2 N 2nd St:geo:-90.05154,35.144869
END:VEVENT
BEGIN:VEVENT
DTSTART;TZID=America/Chicago:20241020T170000
DTEND;TZID=America/Chicago:20241020T200000
DTSTAMP:20260423T031336
CREATED:20241016T162125Z
LAST-MODIFIED:20241016T162125Z
UID:10007537-1729443600-1729454400@calvarymemphis.org
SUMMARY:Zoo Boo with YOUnited Diocesan Youth
DESCRIPTION:Celebrate All Saints’ Day and Halloween with the YOUnited diocesan youth gathering at Zoo Boo on Oct. 20! We’ll meet at the Overton Park Greensward at 5 p.m. for some fun craft activities\, a picnic dinner\, and a discussion about All Saints’ Day\, and then we’ll head over to the zoo at 6! Your ticket to the zoo will be covered by the diocese\, but you’ll have to bring your own money for anything else you’d like. Costumes are welcome! RSVP to Nathan at nbrasfield@calvarymemphis.org
URL:https://calvarymemphis.org/event/zoo-boo-with-younited-diocesan-youth/
LOCATION:Overton Park\, 1914 Poplar Ave.\, Memphis\, TN\, 38104\, United States
CATEGORIES:Homepage Events,Youth
ATTACH;FMTTYPE=image/jpeg:https://calvarymemphis.org/wp-content/uploads/2024/10/zoo-boo.jpeg
ORGANIZER;CN="Nathan Brasfield":MAILTO:nbrasfield@calvarymemphis.org
END:VEVENT
END:VCALENDAR