BEGIN:VCALENDAR
VERSION:2.0
PRODID:-//Calvary Episcopal Church - ECPv6.15.16.1//NONSGML v1.0//EN
CALSCALE:GREGORIAN
METHOD:PUBLISH
X-WR-CALNAME:Calvary Episcopal Church
X-ORIGINAL-URL:https://calvarymemphis.org
X-WR-CALDESC:Events for Calvary Episcopal Church
REFRESH-INTERVAL;VALUE=DURATION:PT1H
X-Robots-Tag:noindex
X-PUBLISHED-TTL:PT1H
BEGIN:VTIMEZONE
TZID:America/Chicago
BEGIN:DAYLIGHT
TZOFFSETFROM:-0600
TZOFFSETTO:-0500
TZNAME:CDT
DTSTART:20230312T080000
END:DAYLIGHT
BEGIN:STANDARD
TZOFFSETFROM:-0500
TZOFFSETTO:-0600
TZNAME:CST
DTSTART:20231105T070000
END:STANDARD
BEGIN:DAYLIGHT
TZOFFSETFROM:-0600
TZOFFSETTO:-0500
TZNAME:CDT
DTSTART:20240310T080000
END:DAYLIGHT
BEGIN:STANDARD
TZOFFSETFROM:-0500
TZOFFSETTO:-0600
TZNAME:CST
DTSTART:20241103T070000
END:STANDARD
BEGIN:DAYLIGHT
TZOFFSETFROM:-0600
TZOFFSETTO:-0500
TZNAME:CDT
DTSTART:20250309T080000
END:DAYLIGHT
BEGIN:STANDARD
TZOFFSETFROM:-0500
TZOFFSETTO:-0600
TZNAME:CST
DTSTART:20251102T070000
END:STANDARD
END:VTIMEZONE
BEGIN:VEVENT
DTSTART;TZID=America/Chicago:20240821T120000
DTEND;TZID=America/Chicago:20240821T123000
DTSTAMP:20260424T011401
CREATED:20230405T154805Z
LAST-MODIFIED:20240523T193026Z
UID:10006287-1724241600-1724243400@calvarymemphis.org
SUMMARY:Holy Eucharist with Prayers for Healing
DESCRIPTION:Holy Eucharist with prayers for healing is offered at noon in the church on Wednesdays.  All are welcome!
URL:https://calvarymemphis.org/event/holy-eucharist-with-prayers-for-healing-2023-06-07-2024-04-24-2024-05-22/2024-08-21/
LOCATION:Calvary Episcopal Church\, 102 North 2nd Street\, Memphis\, TN 38103\, United States\, 2 N 2nd St\, United States
CATEGORIES:Homepage Events
ATTACH;FMTTYPE=image/jpeg:https://calvarymemphis.org/wp-content/uploads/2023/04/Wednesday-Eucharist-epistle-scaled.jpg
ORGANIZER;CN="Scott Walters":MAILTO:swalters@calvarymemphis.org
GEO:35.144869;-90.05154
X-APPLE-STRUCTURED-LOCATION;VALUE=URI;X-ADDRESS=Calvary Episcopal Church 102 North 2nd Street Memphis TN 38103 United States 2 N 2nd St United States;X-APPLE-RADIUS=500;X-TITLE=2 N 2nd St:geo:-90.05154,35.144869
END:VEVENT
BEGIN:VEVENT
DTSTART;TZID=America/Chicago:20240821T171500
DTEND;TZID=America/Chicago:20240821T191500
DTSTAMP:20260424T011401
CREATED:20240605T144737Z
LAST-MODIFIED:20240807T150418Z
UID:10007268-1724260500-1724267700@calvarymemphis.org
SUMMARY:Bingo and Ice Cream
DESCRIPTION:Bingo & Ice Cream | Wed.\, August 21 | 5:15 – 7:15 p.m. | St. Mary’s Cathedral \nBring your friends and family on Wednesday\, Aug. 21\, to enjoy dinner\, followed by rousing rounds of bingo plus ice cream with almost every topping you can imagine. Chef Mary O’Brien will provide food and drinks. Dinner ($8/adults\, $4/kids\, $20/max) begins at 5:15. Bring a dollar store prize (<$5) to share. \nDinner: \nBeef and Vegetarian Spaghetti\nGarden Salad\nIce Cream and LOTS of toppings
URL:https://calvarymemphis.org/event/bingo-and-ice-cream-2/
LOCATION:St. Mary’s Episcopal Cathedral\, 700 Poplar Ave.\, Memphis\, TN\, 38105\, United States
CATEGORIES:Homepage Events
ATTACH;FMTTYPE=image/png:https://calvarymemphis.org/wp-content/uploads/2024/06/bingo.png
ORGANIZER;CN="Ebet Peeples":MAILTO:epeeples@calvarymemphis.org
END:VEVENT
END:VCALENDAR