BEGIN:VCALENDAR
VERSION:2.0
PRODID:-//Calvary Episcopal Church - ECPv6.15.16.1//NONSGML v1.0//EN
CALSCALE:GREGORIAN
METHOD:PUBLISH
X-WR-CALNAME:Calvary Episcopal Church
X-ORIGINAL-URL:https://calvarymemphis.org
X-WR-CALDESC:Events for Calvary Episcopal Church
REFRESH-INTERVAL;VALUE=DURATION:PT1H
X-Robots-Tag:noindex
X-PUBLISHED-TTL:PT1H
BEGIN:VTIMEZONE
TZID:America/Chicago
BEGIN:DAYLIGHT
TZOFFSETFROM:-0600
TZOFFSETTO:-0500
TZNAME:CDT
DTSTART:20230312T080000
END:DAYLIGHT
BEGIN:STANDARD
TZOFFSETFROM:-0500
TZOFFSETTO:-0600
TZNAME:CST
DTSTART:20231105T070000
END:STANDARD
BEGIN:DAYLIGHT
TZOFFSETFROM:-0600
TZOFFSETTO:-0500
TZNAME:CDT
DTSTART:20240310T080000
END:DAYLIGHT
BEGIN:STANDARD
TZOFFSETFROM:-0500
TZOFFSETTO:-0600
TZNAME:CST
DTSTART:20241103T070000
END:STANDARD
BEGIN:DAYLIGHT
TZOFFSETFROM:-0600
TZOFFSETTO:-0500
TZNAME:CDT
DTSTART:20250309T080000
END:DAYLIGHT
BEGIN:STANDARD
TZOFFSETFROM:-0500
TZOFFSETTO:-0600
TZNAME:CST
DTSTART:20251102T070000
END:STANDARD
END:VTIMEZONE
BEGIN:VEVENT
DTSTART;TZID=America/Chicago:20240514T180000
DTEND;TZID=America/Chicago:20240514T200000
DTSTAMP:20260422T220143
CREATED:20240501T151559Z
LAST-MODIFIED:20240501T151559Z
UID:10006612-1715709600-1715716800@calvarymemphis.org
SUMMARY:Bishop’s Round-Up of the Churchmen from the Diocese of West Tennessee
DESCRIPTION:Save the Date for the 78th annual \nTennessee Laymen’s Conference\nAugust 9-11\, 2024\nSt. Mary’s Conference Center in Sewanee\, TN\n“Brothers Dwelling Together in Unity” \nThe Bishop’s Round-Up of the Churchmen from the Diocese of West Tennessee hosted by Bishop Phoebe Roaf will be held at the Church of the Holy Communion at 6 p.m. on Tuesday\, May 14. \nMore information: https://edwtn.org/2024-laymens-conference/
URL:https://calvarymemphis.org/event/bishops-round-up-of-the-churchmen-from-the-diocese-of-west-tennessee/
LOCATION:Church of the Holy Communion\, 4645 Walnut Grove Road\, Memphis\, TN\, 38117\, United States
CATEGORIES:Homepage Events
ATTACH;FMTTYPE=image/png:https://calvarymemphis.org/wp-content/uploads/2024/05/laymens-conference.png
ORGANIZER;CN="Ebet Peeples":MAILTO:epeeples@calvarymemphis.org
END:VEVENT
END:VCALENDAR