BEGIN:VCALENDAR
VERSION:2.0
PRODID:-//Calvary Episcopal Church - ECPv6.15.16.1//NONSGML v1.0//EN
CALSCALE:GREGORIAN
METHOD:PUBLISH
X-ORIGINAL-URL:https://calvarymemphis.org
X-WR-CALDESC:Events for Calvary Episcopal Church
REFRESH-INTERVAL;VALUE=DURATION:PT1H
X-Robots-Tag:noindex
X-PUBLISHED-TTL:PT1H
BEGIN:VTIMEZONE
TZID:America/Chicago
BEGIN:DAYLIGHT
TZOFFSETFROM:-0600
TZOFFSETTO:-0500
TZNAME:CDT
DTSTART:20230312T080000
END:DAYLIGHT
BEGIN:STANDARD
TZOFFSETFROM:-0500
TZOFFSETTO:-0600
TZNAME:CST
DTSTART:20231105T070000
END:STANDARD
BEGIN:DAYLIGHT
TZOFFSETFROM:-0600
TZOFFSETTO:-0500
TZNAME:CDT
DTSTART:20240310T080000
END:DAYLIGHT
BEGIN:STANDARD
TZOFFSETFROM:-0500
TZOFFSETTO:-0600
TZNAME:CST
DTSTART:20241103T070000
END:STANDARD
BEGIN:DAYLIGHT
TZOFFSETFROM:-0600
TZOFFSETTO:-0500
TZNAME:CDT
DTSTART:20250309T080000
END:DAYLIGHT
BEGIN:STANDARD
TZOFFSETFROM:-0500
TZOFFSETTO:-0600
TZNAME:CST
DTSTART:20251102T070000
END:STANDARD
END:VTIMEZONE
BEGIN:VEVENT
DTSTART;TZID=America/Chicago:20240417T120000
DTEND;TZID=America/Chicago:20240417T123000
DTSTAMP:20260423T042631
CREATED:20230405T154805Z
LAST-MODIFIED:20240325T152210Z
UID:10006461-1713355200-1713357000@calvarymemphis.org
SUMMARY:Holy Eucharist with Prayers for Healing
DESCRIPTION:Holy Eucharist with prayers for healing is offered at noon in the church on Wednesdays and features a reflection by one of our priests. \nAfterward\, join clergy and staff for a brown-bag lunch in the Mural Room\, where you will find conversations and connections.
URL:https://calvarymemphis.org/event/holy-eucharist-with-prayers-for-healing-2023-06-07/2024-04-17/
LOCATION:Calvary Episcopal Church\, 102 North 2nd Street\, Memphis\, TN 38103\, United States\, 2 N 2nd St\, United States
CATEGORIES:Homepage Events
ATTACH;FMTTYPE=image/jpeg:https://calvarymemphis.org/wp-content/uploads/2023/04/Wednesday-Eucharist-epistle-scaled.jpg
ORGANIZER;CN="Scott Walters":MAILTO:swalters@calvarymemphis.org
GEO:35.144869;-90.05154
X-APPLE-STRUCTURED-LOCATION;VALUE=URI;X-ADDRESS=Calvary Episcopal Church 102 North 2nd Street Memphis TN 38103 United States 2 N 2nd St United States;X-APPLE-RADIUS=500;X-TITLE=2 N 2nd St:geo:-90.05154,35.144869
END:VEVENT
BEGIN:VEVENT
DTSTART;TZID=America/Chicago:20240417T181500
DTEND;TZID=America/Chicago:20240417T190000
DTSTAMP:20260423T042631
CREATED:20230905T190014Z
LAST-MODIFIED:20240327T212513Z
UID:10006883-1713377700-1713380400@calvarymemphis.org
SUMMARY:St. Cecilia Choir
DESCRIPTION:Director and Music Educator Melissa Warwell leads a rehearsal for the youngest voices of Calvary who are in Kindergarten – 2nd Grade. They sing periodically at the 10:30 a.m. worship service and at special services. Using a variety of activities\, the choristers learn to use their voices by means of hymns and other sacred songs. The choir rehearses on Wednesday evenings from 6:15 to 7. At the conclusion of rehearsal\, they can attend Compline until 7:15 p.m.
URL:https://calvarymemphis.org/event/st-cecilia-choir-2023-12-20/2024-04-17/
LOCATION:St. Mary’s Episcopal Cathedral\, 700 Poplar Ave.\, Memphis\, TN\, 38105\, United States
CATEGORIES:Children and Family Ministries,Homepage Events
ATTACH;FMTTYPE=image/jpeg:https://calvarymemphis.org/wp-content/uploads/2021/09/St.-Cecilia-Choir.jpg
ORGANIZER;CN="Kristin Lensch":MAILTO:klensch@calvarymemphis.org
END:VEVENT
BEGIN:VEVENT
DTSTART;TZID=America/Chicago:20240417T181500
DTEND;TZID=America/Chicago:20240417T190000
DTSTAMP:20260423T042631
CREATED:20240207T150704Z
LAST-MODIFIED:20240327T212039Z
UID:10007173-1713377700-1713380400@calvarymemphis.org
SUMMARY:Wednesday Evening EYC
DESCRIPTION:Wednesday night Episcopal Youth Community meets from 6:15 to 7:00 in the 2nd-floor EYC room after dinner. Wednesday nights are for any youth in grades 6–12 to come together and participate in team-building activities\, games\, service projects\, discussion\, and prayer. At 6:55\, we will walk together to the Sanctuary for Compline starting at 7 p.m. Any and all at Calvary are welcome to join us for Compline.
URL:https://calvarymemphis.org/event/wednesday-evening-eyc-2-2024-04-10/2024-04-17/
LOCATION:St. Mary’s Episcopal Cathedral\, 700 Poplar Ave.\, Memphis\, TN\, 38105\, United States
CATEGORIES:Homepage Events,Youth
ATTACH;FMTTYPE=image/jpeg:https://calvarymemphis.org/wp-content/uploads/2024/02/IMG_5080-scaled.jpeg
ORGANIZER;CN="Jeremy Demarest":MAILTO:jdemarest@calvarymemphis.org
END:VEVENT
BEGIN:VEVENT
DTSTART;TZID=America/Chicago:20240417T181500
DTEND;TZID=America/Chicago:20240417T191500
DTSTAMP:20260423T042631
CREATED:20230905T180814Z
LAST-MODIFIED:20240327T212328Z
UID:10006502-1713377700-1713381300@calvarymemphis.org
SUMMARY:Gathering
DESCRIPTION:Gathering is a new opportunity on Wednesday evenings for children and adults to “sit and stay a while” after dinner for an hour of fellowship. Games\, books\, puzzles\, and coloring materials will be provided. Mrs. Jocelyn and friends will supervise children ages five and up for parents who wish to attend a class.
URL:https://calvarymemphis.org/event/gathering-2024-04-10/2024-04-17/
LOCATION:St. Mary’s Episcopal Cathedral\, 700 Poplar Ave.\, Memphis\, TN\, 38105\, United States
CATEGORIES:Children and Family Ministries,Homepage Events
ATTACH;FMTTYPE=image/jpeg:https://calvarymemphis.org/wp-content/uploads/2023/09/IMG_0402.jpeg
ORGANIZER;CN="Jocelyn Busby":MAILTO:jbusby@calvarymemphis.org
END:VEVENT
BEGIN:VEVENT
DTSTART;TZID=America/Chicago:20240417T181500
DTEND;TZID=America/Chicago:20240417T191500
DTSTAMP:20260423T042631
CREATED:20230905T192331Z
LAST-MODIFIED:20240327T212405Z
UID:10007119-1713377700-1713381300@calvarymemphis.org
SUMMARY:Boys and Girls Choir
DESCRIPTION:The Boys and Girls Choir\, made up of students with unchanged voices in grades three and up\, sings semi-monthly at the 10:30 a.m. worship service. Using the Voice for Life curriculum established by the Royal School of Church Music (RSCM)\, Organist-Choirmaster Kristin Lensch promotes a complete and quality approach to children’s music ministry that is as much a Christian education experience as it is a musical training experience. Choristers often become peer leaders over time as they progress through the program. Rehearsal is on Wednesdays from 6:15 to 7 p.m. Afterward\, they attend Compline until 7:15 p.m.
URL:https://calvarymemphis.org/event/boys-and-girls-choir-2024-04-10/2024-04-17/
LOCATION:St. Mary’s Episcopal Cathedral\, 700 Poplar Ave.\, Memphis\, TN\, 38105\, United States
CATEGORIES:Children and Family Ministries,Homepage Events
ATTACH;FMTTYPE=image/jpeg:https://calvarymemphis.org/wp-content/uploads/2023/09/BandG-Choir-scaled.jpeg
ORGANIZER;CN="Kristin Lensch":MAILTO:klensch@calvarymemphis.org
END:VEVENT
BEGIN:VEVENT
DTSTART;TZID=America/Chicago:20240417T181500
DTEND;TZID=America/Chicago:20240417T191500
DTSTAMP:20260423T042631
CREATED:20240327T213029Z
LAST-MODIFIED:20240327T213029Z
UID:10007251-1713377700-1713381300@calvarymemphis.org
SUMMARY:Where do we go when we die? 
DESCRIPTION:If you said ‘heaven\,’ Biblical scholar N.T. Wright says\, ‘Think again!’ In Surprised by Hope: Rethinking Heaven\, the Resurrection\, and the Mission of the Church\, he argues that what we believe about life after death directly affects what we believe about life before death. Come join the Rev. Paul McLain as he guides us in this mind-blowing exploration of the afterlife\, our present life\, and God’s ultimate purpose of bringing heaven to earth during the Easter season of resurrection. We will meet on Wednesday evenings\, April 10-May 15\, from 6:15 to 7:15 p.m. in Martyrs Hall at St. Mary’s Episcopal Cathedral\, 700 Poplar.  \nCopies of the book are available through Novel or other local booksellers. 
URL:https://calvarymemphis.org/event/where-do-we-go-when-we-die/2024-04-17/
LOCATION:St. Mary’s Episcopal Cathedral\, 700 Poplar Ave.\, Memphis\, TN\, 38105\, United States
CATEGORIES:Adult Formation,Homepage Events
ATTACH;FMTTYPE=image/jpeg:https://calvarymemphis.org/wp-content/uploads/2024/03/surprised-by-hope.jpg
END:VEVENT
BEGIN:VEVENT
DTSTART;TZID=America/Chicago:20240417T183000
DTEND;TZID=America/Chicago:20240417T203000
DTSTAMP:20260423T042631
CREATED:20230905T194144Z
LAST-MODIFIED:20240327T212803Z
UID:10006125-1713378600-1713385800@calvarymemphis.org
SUMMARY:Education for Ministry
DESCRIPTION:Education for Ministry\, aka EfM\, helps the faithful encounter the breadth and depth of the Christian tradition and bring it into conversation with their experiences of the world as they study\, worship\, and engage in theological reflection together. This is a commitment class\, and participants are encouraged to commit to the program from August through May. \nCalvary offers two EfM groups\, both led by Richard Hendricks\, Wednesday mornings at 10 a.m. and Wednesday evenings at 6:30 p.m. Contact the Rev. Katherine Bush or Richard Hendricks to learn more.
URL:https://calvarymemphis.org/event/efm-wednesday-morning-2024-04-10-2/2024-04-17/
LOCATION:St. Mary’s Episcopal Cathedral\, 700 Poplar Ave.\, Memphis\, TN\, 38105\, United States
CATEGORIES:Homepage Events
ATTACH;FMTTYPE=image/png:https://calvarymemphis.org/wp-content/uploads/2020/08/EfM-Logo-483x483-1.png
ORGANIZER;CN="Katherine Bush":MAILTO:kbush@calvarymemphis.org
END:VEVENT
BEGIN:VEVENT
DTSTART;TZID=America/Chicago:20240417T190000
DTEND;TZID=America/Chicago:20240417T210000
DTSTAMP:20260423T042631
CREATED:20230905T192807Z
LAST-MODIFIED:20240327T212712Z
UID:10006931-1713380400-1713387600@calvarymemphis.org
SUMMARY:Calvary Choir
DESCRIPTION:Both professional singers and auditioned volunteers make up Calvary’s primary group of choristers: the Calvary Choir. The choir sings each week at the 10:30 a.m. worship service\, monthly Evensong\, and offers special liturgical services and concerts during the year. While strongly based in the music of the Anglican church\, their repertoire spans centuries and global traditions\, from plainsong to spirituals. In addition to making music at home\, the Calvary Choir has traveled to England to participate in a week-long choral residency at the Bristol Cathedral. They are known for both their dedication to and love of music and close camaraderie. Interested singers should contact Organist-Choirmaster Kristin Lensch.
URL:https://calvarymemphis.org/event/calvary-choir-2023-12-20/2024-04-17/
LOCATION:St. Mary’s Episcopal Cathedral\, 700 Poplar Ave.\, Memphis\, TN\, 38105\, United States
CATEGORIES:Homepage Events
ATTACH;FMTTYPE=image/jpeg:https://calvarymemphis.org/wp-content/uploads/2023/09/choir-scaled.jpg
ORGANIZER;CN="Kristin Lensch":MAILTO:klensch@calvarymemphis.org
END:VEVENT
END:VCALENDAR