BEGIN:VCALENDAR
VERSION:2.0
PRODID:-//Calvary Episcopal Church - ECPv6.15.16.1//NONSGML v1.0//EN
CALSCALE:GREGORIAN
METHOD:PUBLISH
X-ORIGINAL-URL:https://calvarymemphis.org
X-WR-CALDESC:Events for Calvary Episcopal Church
REFRESH-INTERVAL;VALUE=DURATION:PT1H
X-Robots-Tag:noindex
X-PUBLISHED-TTL:PT1H
BEGIN:VTIMEZONE
TZID:America/Chicago
BEGIN:DAYLIGHT
TZOFFSETFROM:-0600
TZOFFSETTO:-0500
TZNAME:CDT
DTSTART:20230312T080000
END:DAYLIGHT
BEGIN:STANDARD
TZOFFSETFROM:-0500
TZOFFSETTO:-0600
TZNAME:CST
DTSTART:20231105T070000
END:STANDARD
BEGIN:DAYLIGHT
TZOFFSETFROM:-0600
TZOFFSETTO:-0500
TZNAME:CDT
DTSTART:20240310T080000
END:DAYLIGHT
BEGIN:STANDARD
TZOFFSETFROM:-0500
TZOFFSETTO:-0600
TZNAME:CST
DTSTART:20241103T070000
END:STANDARD
BEGIN:DAYLIGHT
TZOFFSETFROM:-0600
TZOFFSETTO:-0500
TZNAME:CDT
DTSTART:20250309T080000
END:DAYLIGHT
BEGIN:STANDARD
TZOFFSETFROM:-0500
TZOFFSETTO:-0600
TZNAME:CST
DTSTART:20251102T070000
END:STANDARD
END:VTIMEZONE
BEGIN:VEVENT
DTSTART;TZID=America/Chicago:20240413T173000
DTEND;TZID=America/Chicago:20240413T193000
DTSTAMP:20260421T204842
CREATED:20240409T201828Z
LAST-MODIFIED:20240409T201828Z
UID:10006802-1713029400-1713036600@calvarymemphis.org
SUMMARY:Newcomer Party
DESCRIPTION:If you are new to Calvary\, generally visiting or joining within the past year or so\, you are invited to attend an in-person gathering to celebrate that we have found community together. Come to Clay Woemmel & Brooks Terry’s home to enjoy some light snacks and a variety of beverages. This is a great opportunity to get to know other newcomers and meet staff and vestry members who can tell you more about worship\, study\, fellowship\, and outreach opportunities at Calvary. \nRSVP here.
URL:https://calvarymemphis.org/event/newcomer-party-2/
LOCATION:Home of Clay Woemmel & Brooks Terry\, Memphis\, TN\, United States
CATEGORIES:Homepage Events
ORGANIZER;CN="Ebet Peeples":MAILTO:epeeples@calvarymemphis.org
END:VEVENT
END:VCALENDAR