BEGIN:VCALENDAR
VERSION:2.0
PRODID:-//Calvary Episcopal Church - ECPv6.15.16.1//NONSGML v1.0//EN
CALSCALE:GREGORIAN
METHOD:PUBLISH
X-ORIGINAL-URL:https://calvarymemphis.org
X-WR-CALDESC:Events for Calvary Episcopal Church
REFRESH-INTERVAL;VALUE=DURATION:PT1H
X-Robots-Tag:noindex
X-PUBLISHED-TTL:PT1H
BEGIN:VTIMEZONE
TZID:America/Chicago
BEGIN:DAYLIGHT
TZOFFSETFROM:-0600
TZOFFSETTO:-0500
TZNAME:CDT
DTSTART:20230312T080000
END:DAYLIGHT
BEGIN:STANDARD
TZOFFSETFROM:-0500
TZOFFSETTO:-0600
TZNAME:CST
DTSTART:20231105T070000
END:STANDARD
BEGIN:DAYLIGHT
TZOFFSETFROM:-0600
TZOFFSETTO:-0500
TZNAME:CDT
DTSTART:20240310T080000
END:DAYLIGHT
BEGIN:STANDARD
TZOFFSETFROM:-0500
TZOFFSETTO:-0600
TZNAME:CST
DTSTART:20241103T070000
END:STANDARD
BEGIN:DAYLIGHT
TZOFFSETFROM:-0600
TZOFFSETTO:-0500
TZNAME:CDT
DTSTART:20250309T080000
END:DAYLIGHT
BEGIN:STANDARD
TZOFFSETFROM:-0500
TZOFFSETTO:-0600
TZNAME:CST
DTSTART:20251102T070000
END:STANDARD
END:VTIMEZONE
BEGIN:VEVENT
DTSTART;TZID=America/Chicago:20240125T073000
DTEND;TZID=America/Chicago:20240125T083000
DTSTAMP:20260419T190651
CREATED:20230830T154138Z
LAST-MODIFIED:20230830T154138Z
UID:10006659-1706167800-1706171400@calvarymemphis.org
SUMMARY:Baguette Brothers
DESCRIPTION:Thursdays\, 7:30–8:30 a.m. at Barth House\, 409 Patterson St.  \nEvery Thursday morning\, a few good men gather for coffee\, prayer\, Bible study\, and terrible jokes. It’s a “Pre-Game Show\,” as they study the Gospel lesson for the upcoming Sunday service. It is now in its 20th year\, so the jokes must not be that bad. Contact Bill Craddock or 901-276-0639\, for more information.
URL:https://calvarymemphis.org/event/baguette-brothers/2024-01-25/
LOCATION:Barth House\, 409 Patterson St.\, Memphis\, TN\, 38111\, United States
CATEGORIES:Adult Formation,Homepage Events
ATTACH;FMTTYPE=image/jpeg:https://calvarymemphis.org/wp-content/uploads/2019/03/The_Holy_Bible_web.jpg
ORGANIZER;CN="Paul McLain":MAILTO:pmclain@calvarymemphis.org
END:VEVENT
BEGIN:VEVENT
DTSTART;TZID=America/Chicago:20240125T120000
DTEND;TZID=America/Chicago:20240125T130000
DTSTAMP:20260419T190651
CREATED:20230830T154456Z
LAST-MODIFIED:20230830T154456Z
UID:10006751-1706184000-1706187600@calvarymemphis.org
SUMMARY:Gleanings Discussion Group
DESCRIPTION:Thursdays at noon on Zoom \nIf you love to pursue hard questions in good company\, a favorite phrase of Bill Craddock’s\, join Gleanings\, a group convened by Bill along with Scott Walters to do just that. On Sept. 7\, we will begin a new book\, Faith Beyond Belief: Spirituality for Our Times\, by David Steindl-Rast and Anselm Grün. If you have questions\, or want to join the Gleanings email list for weekly Zoom links and additional resources\, email Scott. All are welcome!
URL:https://calvarymemphis.org/event/gleanings-discussion-group/2024-01-25/
CATEGORIES:Adult Formation,Homepage Events
ATTACH;FMTTYPE=image/jpeg:https://calvarymemphis.org/wp-content/uploads/2023/08/faith-beyond-belief.jpeg
ORGANIZER;CN="Scott Walters":MAILTO:swalters@calvarymemphis.org
END:VEVENT
BEGIN:VEVENT
DTSTART;TZID=America/Chicago:20240125T193000
DTEND;TZID=America/Chicago:20240125T210000
DTSTAMP:20260419T190651
CREATED:20231220T160305Z
LAST-MODIFIED:20231220T160306Z
UID:10006257-1706211000-1706216400@calvarymemphis.org
SUMMARY:Friends of Music presents New York Polyphony in Concert
DESCRIPTION:Critically acclaimed for a “rich\, natural sound that’s larger and more complex than the sum of its parts” (NPR)\, New York Polyphony is one of the foremost vocal chamber ensembles active today. Their innovative programming spans Gregorian chant to contemporary commissions\, and their focus on familiar and rare works of the 12-17th centuries has helped bring early music to modern audiences. A reception follows in the Great Hall. Free and secure parking is available in Calvary’s back lot\, accessible off of Adams St\, directly across from the court house.
URL:https://calvarymemphis.org/event/friends-of-music-presents-new-york-polyphony-in-concert/
LOCATION:Calvary Episcopal Church\, 102 North 2nd Street\, Memphis\, TN 38103\, United States\, 2 N 2nd St\, United States
CATEGORIES:Friends of Music,Homepage Events
ATTACH;FMTTYPE=image/png:https://calvarymemphis.org/wp-content/uploads/2023/12/FOM-Concert-Postcard.png
ORGANIZER;CN="Kristin Lensch":MAILTO:klensch@calvarymemphis.org
GEO:35.144869;-90.05154
X-APPLE-STRUCTURED-LOCATION;VALUE=URI;X-ADDRESS=Calvary Episcopal Church 102 North 2nd Street Memphis TN 38103 United States 2 N 2nd St United States;X-APPLE-RADIUS=500;X-TITLE=2 N 2nd St:geo:-90.05154,35.144869
END:VEVENT
END:VCALENDAR