BEGIN:VCALENDAR
VERSION:2.0
PRODID:-//Calvary Episcopal Church - ECPv6.15.16.1//NONSGML v1.0//EN
CALSCALE:GREGORIAN
METHOD:PUBLISH
X-WR-CALNAME:Calvary Episcopal Church
X-ORIGINAL-URL:https://calvarymemphis.org
X-WR-CALDESC:Events for Calvary Episcopal Church
REFRESH-INTERVAL;VALUE=DURATION:PT1H
X-Robots-Tag:noindex
X-PUBLISHED-TTL:PT1H
BEGIN:VTIMEZONE
TZID:America/Chicago
BEGIN:DAYLIGHT
TZOFFSETFROM:-0600
TZOFFSETTO:-0500
TZNAME:CDT
DTSTART:20230312T080000
END:DAYLIGHT
BEGIN:STANDARD
TZOFFSETFROM:-0500
TZOFFSETTO:-0600
TZNAME:CST
DTSTART:20231105T070000
END:STANDARD
BEGIN:DAYLIGHT
TZOFFSETFROM:-0600
TZOFFSETTO:-0500
TZNAME:CDT
DTSTART:20240310T080000
END:DAYLIGHT
BEGIN:STANDARD
TZOFFSETFROM:-0500
TZOFFSETTO:-0600
TZNAME:CST
DTSTART:20241103T070000
END:STANDARD
BEGIN:DAYLIGHT
TZOFFSETFROM:-0600
TZOFFSETTO:-0500
TZNAME:CDT
DTSTART:20250309T080000
END:DAYLIGHT
BEGIN:STANDARD
TZOFFSETFROM:-0500
TZOFFSETTO:-0600
TZNAME:CST
DTSTART:20251102T070000
END:STANDARD
END:VTIMEZONE
BEGIN:VEVENT
DTSTART;TZID=America/Chicago:20240123T190000
DTEND;TZID=America/Chicago:20240123T210000
DTSTAMP:20260425T140135
CREATED:20240110T162114Z
LAST-MODIFIED:20240110T162114Z
UID:10007107-1706036400-1706043600@calvarymemphis.org
SUMMARY:Art and the Heart at the Movies: A Case for Love
DESCRIPTION:A Case for Love\nInspired by the teachings of Presiding Bishop Michael Curry\, this film explores whether unselfish love can solve the extreme societal and political divide facing the U.S. The film will be shown for one night only on January 23 at more than 1\,000 movie theaters around the country. Don’t miss this thought-provoking and moving documentary! Calvary folks and friends are invited to purchase tickets and meet at the Malco Paradiso for the 7 p.m. showing on Tuesday\, Jan. 23. \nWatch the trailer and buy tickets here: https://www.gracebasedfilms.org/
URL:https://calvarymemphis.org/event/art-and-the-heart-at-the-movies-a-case-for-love/
LOCATION:Malco Paradiso Cinema\, 584 S. Mendenhall\, Memphis\, TN\, 38117\, United States
CATEGORIES:Adult Formation,Homepage Events
ATTACH;FMTTYPE=image/jpeg:https://calvarymemphis.org/wp-content/uploads/2024/01/Bishop-Michael-Curry_1.jpg
ORGANIZER;CN="Katherine Bush":MAILTO:kbush@calvarymemphis.org
END:VEVENT
END:VCALENDAR