BEGIN:VCALENDAR
VERSION:2.0
PRODID:-//Calvary Episcopal Church - ECPv6.15.16.1//NONSGML v1.0//EN
CALSCALE:GREGORIAN
METHOD:PUBLISH
X-ORIGINAL-URL:https://calvarymemphis.org
X-WR-CALDESC:Events for Calvary Episcopal Church
REFRESH-INTERVAL;VALUE=DURATION:PT1H
X-Robots-Tag:noindex
X-PUBLISHED-TTL:PT1H
BEGIN:VTIMEZONE
TZID:America/Chicago
BEGIN:DAYLIGHT
TZOFFSETFROM:-0600
TZOFFSETTO:-0500
TZNAME:CDT
DTSTART:20230312T080000
END:DAYLIGHT
BEGIN:STANDARD
TZOFFSETFROM:-0500
TZOFFSETTO:-0600
TZNAME:CST
DTSTART:20231105T070000
END:STANDARD
BEGIN:DAYLIGHT
TZOFFSETFROM:-0600
TZOFFSETTO:-0500
TZNAME:CDT
DTSTART:20240310T080000
END:DAYLIGHT
BEGIN:STANDARD
TZOFFSETFROM:-0500
TZOFFSETTO:-0600
TZNAME:CST
DTSTART:20241103T070000
END:STANDARD
BEGIN:DAYLIGHT
TZOFFSETFROM:-0600
TZOFFSETTO:-0500
TZNAME:CDT
DTSTART:20250309T080000
END:DAYLIGHT
BEGIN:STANDARD
TZOFFSETFROM:-0500
TZOFFSETTO:-0600
TZNAME:CST
DTSTART:20251102T070000
END:STANDARD
END:VTIMEZONE
BEGIN:VEVENT
DTSTART;TZID=America/Chicago:20240121T084500
DTEND;TZID=America/Chicago:20240121T091500
DTSTAMP:20260423T181815
CREATED:20240110T164206Z
LAST-MODIFIED:20240110T164206Z
UID:10007108-1705826700-1705828500@calvarymemphis.org
SUMMARY:Children's Breakfast Club
DESCRIPTION:Children’s Breakfast Club will meet during the Parish Breakfast on the third Sunday. Parents may drop their children (ages JK-5th gr) off to enjoy a complimentary breakfast with formation leaders and friends\, then they will be escorted to formation class. Parents should pick their child up in Room 201 when formation ends at 10:15 a.m.
URL:https://calvarymemphis.org/event/childrens-breakfast-club-2/
LOCATION:Calvary Episcopal Church\, 102 North 2nd Street\, Memphis\, TN 38103\, United States\, 2 N 2nd St\, United States
CATEGORIES:Children and Family Ministries,Homepage Events
ATTACH;FMTTYPE=image/jpeg:https://calvarymemphis.org/wp-content/uploads/2024/01/breakfast-club_website.jpg
ORGANIZER;CN="Jocelyn Busby":MAILTO:jbusby@calvarymemphis.org
GEO:35.144869;-90.05154
X-APPLE-STRUCTURED-LOCATION;VALUE=URI;X-ADDRESS=Calvary Episcopal Church 102 North 2nd Street Memphis TN 38103 United States 2 N 2nd St United States;X-APPLE-RADIUS=500;X-TITLE=2 N 2nd St:geo:-90.05154,35.144869
END:VEVENT
BEGIN:VEVENT
DTSTART;TZID=America/Chicago:20240121T091500
DTEND;TZID=America/Chicago:20240121T101500
DTSTAMP:20260423T181815
CREATED:20230905T200031Z
LAST-MODIFIED:20240228T155007Z
UID:10006147-1705828500-1705832100@calvarymemphis.org
SUMMARY:Children's Formation
DESCRIPTION:Children ages JK through 5th grade are invited to join us in the Children’s Wing\, Room 201\, on the second floor. Our young people explore their faith and scripture through Godly Play and Weaving God’s Promises – two curriculums based on storytelling designed to connect our young people deeper to their faith.
URL:https://calvarymemphis.org/event/childrens-formation/2024-01-21/
LOCATION:Calvary Episcopal Church\, 102 North 2nd Street\, Memphis\, TN 38103\, United States\, 2 N 2nd St\, United States
CATEGORIES:Children and Family Ministries,Homepage Events
ATTACH;FMTTYPE=image/jpeg:https://calvarymemphis.org/wp-content/uploads/2023/09/IMG_2150-scaled.jpeg
ORGANIZER;CN="Jocelyn Busby":MAILTO:jbusby@calvarymemphis.org
GEO:35.144869;-90.05154
X-APPLE-STRUCTURED-LOCATION;VALUE=URI;X-ADDRESS=Calvary Episcopal Church 102 North 2nd Street Memphis TN 38103 United States 2 N 2nd St United States;X-APPLE-RADIUS=500;X-TITLE=2 N 2nd St:geo:-90.05154,35.144869
END:VEVENT
BEGIN:VEVENT
DTSTART;TZID=America/Chicago:20240121T091500
DTEND;TZID=America/Chicago:20240121T101500
DTSTAMP:20260423T181815
CREATED:20240104T150751Z
LAST-MODIFIED:20240104T150751Z
UID:10007068-1705828500-1705832100@calvarymemphis.org
SUMMARY:Youth Formation
DESCRIPTION:Every Sunday\, young people in grades 6-12 are invited to come and explore their faith and ponder how scripture applies to our modern-day events. We will explore the lectionary through current events using the curriculum FaithLens.
URL:https://calvarymemphis.org/event/youth-formation-2/2024-01-21/
LOCATION:Calvary Episcopal Church\, 102 North 2nd Street\, Memphis\, TN 38103\, United States\, 2 N 2nd St\, United States
CATEGORIES:Homepage Events,Youth
ATTACH;FMTTYPE=image/jpeg:https://calvarymemphis.org/wp-content/uploads/2024/01/IMG_5062-scaled.jpeg
ORGANIZER;CN="Jeremy Demarest":MAILTO:jdemarest@calvarymemphis.org
GEO:35.144869;-90.05154
X-APPLE-STRUCTURED-LOCATION;VALUE=URI;X-ADDRESS=Calvary Episcopal Church 102 North 2nd Street Memphis TN 38103 United States 2 N 2nd St United States;X-APPLE-RADIUS=500;X-TITLE=2 N 2nd St:geo:-90.05154,35.144869
END:VEVENT
BEGIN:VEVENT
DTSTART;TZID=America/Chicago:20240121T091500
DTEND;TZID=America/Chicago:20240121T101500
DTSTAMP:20260423T181815
CREATED:20240108T191728Z
LAST-MODIFIED:20240108T191729Z
UID:10007104-1705828500-1705832100@calvarymemphis.org
SUMMARY:2023 Annual Review
DESCRIPTION:Join the Rev. Scott Walters in-person or online during formation\, for a look back at all Calvary did in 2023 as well as a look forward to the opportunities 2024 brings.
URL:https://calvarymemphis.org/event/2023-annual-review/
LOCATION:Calvary Episcopal Church\, 102 North 2nd Street\, Memphis\, TN 38103\, United States\, 2 N 2nd St\, United States
CATEGORIES:Adult Formation,Homepage Events
ATTACH;FMTTYPE=image/jpeg:https://calvarymemphis.org/wp-content/uploads/2023/07/DSCF7991-scaled-e1690383445229.jpg
ORGANIZER;CN="Scott Walters":MAILTO:swalters@calvarymemphis.org
GEO:35.144869;-90.05154
X-APPLE-STRUCTURED-LOCATION;VALUE=URI;X-ADDRESS=Calvary Episcopal Church 102 North 2nd Street Memphis TN 38103 United States 2 N 2nd St United States;X-APPLE-RADIUS=500;X-TITLE=2 N 2nd St:geo:-90.05154,35.144869
END:VEVENT
BEGIN:VEVENT
DTSTART;TZID=America/Chicago:20240121T170000
DTEND;TZID=America/Chicago:20240121T180000
DTSTAMP:20260423T181815
CREATED:20230511T192244Z
LAST-MODIFIED:20240103T161311Z
UID:10006575-1705856400-1705860000@calvarymemphis.org
SUMMARY:Contemplative Eucharist
DESCRIPTION:Each Sunday evening at 5 p.m.\, all are invited to participate in a quieter\, centering time of worship in the Orgill Room. This gathering offers a guided conversation in place of a sermon\, new words for old prayers\, and opportunities for silence and reflection. This service will not take place on Sundays when Evensong is offered.
URL:https://calvarymemphis.org/event/contemplative-eucharist/2024-01-21/
LOCATION:Calvary Episcopal Church\, 102 North 2nd Street\, Memphis\, TN 38103\, United States\, 2 N 2nd St\, United States
CATEGORIES:Homepage Events
ATTACH;FMTTYPE=image/jpeg:https://calvarymemphis.org/wp-content/uploads/2020/03/compline-candle_website-e1619620691111.jpg
ORGANIZER;CN="Scott Walters":MAILTO:swalters@calvarymemphis.org
GEO:35.144869;-90.05154
X-APPLE-STRUCTURED-LOCATION;VALUE=URI;X-ADDRESS=Calvary Episcopal Church 102 North 2nd Street Memphis TN 38103 United States 2 N 2nd St United States;X-APPLE-RADIUS=500;X-TITLE=2 N 2nd St:geo:-90.05154,35.144869
END:VEVENT
END:VCALENDAR